BEGIN:VCALENDAR
PRODID:NingEventWidget-v1
VERSION:2.0
METHOD:PUBLISH
BEGIN:VTIMEZONE
TZID:Europe/London
X-LIC-LOCATION:Europe/London
BEGIN:DAYLIGHT
TZOFFSETFROM:+0000
TZOFFSETTO:+0100
TZNAME:BST
DTSTART:19700329T010000
RRULE:FREQ=YEARLY;BYMONTH=3;BYDAY=-1SU
END:DAYLIGHT
BEGIN:STANDARD
TZOFFSETFROM:+0100
TZOFFSETTO:+0000
TZNAME:GMT
DTSTART:19701025T020000
RRULE:FREQ=YEARLY;BYMONTH=10;BYDAY=-1SU
END:STANDARD
END:VTIMEZONE
BEGIN:VEVENT
UID:4626108:Event:2601
DTSTAMP:20260425T161556Z
SUMMARY:Ladies at 11 Morning, Woking
DESCRIPTION:Ladies at 11, Woking\n\nLadies at 11 is a dynamic group of
  business women who meet on a monthly basis to exchange business and t
 o grow our businesses.\nWhen you experience good service or buy a good
  product you tell your friends and spread the word, this is networking
  in its simplest form. And business networking is very similar, if you
  like something you talk about it, you spread the word.\nCOST: £10 fo
 r non members (includes VAT) free for members\nBOOK HERE\nVENUE\nMAP\n
 -----------------------\nLadies at 11 is run by NiS Member Sarah Marti
 n. At Ladies at 11 we mean business, we meet at 11am promptly, we netw
 ork, we have structured focused meetings and we pass business contacts
  and recommendations. We build strategic alliances across a range of i
 ndustries; we develop working relationships and importantly friendship
  and support. We are a dynamic and energetic group of women all strivi
 ng for success.\n\nFor more information visit https://networkinginsurr
 ey.co.uk/events/ladies-at-11-morning-woking-1
DTSTART;TZID=Europe/London:20100624T110000
DTEND;TZID=Europe/London:20100624T130000
CATEGORIES:morning, woking, ladies_at_11, business_networking
LOCATION:Sands at Bleak House, Woking GU21 5NL
WEBSITE:http://www.ladiesat11.com/
URL:http://www.ladiesat11.com/
CONTACT:07855 465 292 Sarah
ORGANIZER:Sarah Martin
ATTACH;FMTTYPE="image/jpeg":http://storage.ning.com/topology/rest/1.0/
 file/get/2470848694?profile=original
END:VEVENT
END:VCALENDAR
