BEGIN:VCALENDAR
PRODID:NingEventWidget-v1
VERSION:2.0
METHOD:PUBLISH
BEGIN:VTIMEZONE
TZID:Europe/London
X-LIC-LOCATION:Europe/London
BEGIN:DAYLIGHT
TZOFFSETFROM:+0000
TZOFFSETTO:+0100
TZNAME:BST
DTSTART:19700329T010000
RRULE:FREQ=YEARLY;BYMONTH=3;BYDAY=-1SU
END:DAYLIGHT
BEGIN:STANDARD
TZOFFSETFROM:+0100
TZOFFSETTO:+0000
TZNAME:GMT
DTSTART:19701025T020000
RRULE:FREQ=YEARLY;BYMONTH=10;BYDAY=-1SU
END:STANDARD
END:VTIMEZONE
BEGIN:VEVENT
UID:4626108:Event:5708
DTSTAMP:20260423T083050Z
SUMMARY:Ladies at 11 Morning, Weybridge
DESCRIPTION:Ladies at 11 Morning, Weybridge\n\nLadies at 11 is a netwo
 rking company for women who are serious about growing their business. 
 We are a dynamic group of business women who meet on a monthly basis t
 o exchange business and to grow our businesses. When you experience go
 od service or buy a good product you tell your friends and spread the 
 word, this is networking in its simplest form. And business networking
  is very similar, if you like something you talk about it, you spread 
 the word. It’s widely known 80% of business is passed through word o
 f mouth and referrals. Everyone has a group of people around them, the
 ir friends, their family, their business contacts and these people all
  want to buy services from trusted suppliers.\n\nGrowing your business
  through business exchange is a two-way process, by giving to others y
 ou and your business will ultimately benefit. This is not only in rega
 rds to specific business referrals it’s also about creating a suppor
 t system of advice, help, friendship, also to gain confidence and self
 -belief as we become even more successful. Ladies at 11 does not limit
  any one trade or industry to our meetings, we recognise that people b
 uy from people and that choice is important. We are all attracted to d
 ifferent people for different reasons. We strongly believe that there 
 is enough business for everyone.\n\nThis meeting is also a perfect opp
 ortunity to sample the delights of this stunning brand new luxury bout
 ique hotel at the heart of the historic Brooklands racetrack, close to
  Mercedes Benz World and Brooklands Musem.\n\nCOST: £10 for non membe
 rs (includes VAT) free for members\nCLICK HERE TO BOOK\nVENUE\nMAP & D
 IRECTIONS\n-----------------------\nLadies at 11 is run by NiS Member 
 Sarah Martin. At Ladies at 11 we mean business, we meet at 11am prompt
 ly, we network, we have structured focused meetings and we pass busine
 ss contacts and recommendations. We build strategic alliances across a
  range of industries; we develop working relationships and importantly
  friendship and support. We are a dynamic and energetic group of women
  all striving for success.\n\nFor more information visit https://netwo
 rkinginsurrey.co.uk/events/ladies-at-11-morning-weybridge-3
DTSTART;TZID=Europe/London:20101202T110000
DTEND;TZID=Europe/London:20101202T130000
CATEGORIES:networking
LOCATION:The Brooklands Hotel KT13 0SL
WEBSITE:http://www.brooklandshotelsurrey.com
URL:http://www.brooklandshotelsurrey.com
CONTACT:07855 465 202
ORGANIZER;CN="Sarah Martin":https://networkinginsurrey.co.uk/profile/S
 arahMartin
ATTACH;FMTTYPE="image/jpeg":http://storage.ning.com/topology/rest/1.0/
 file/get/2470848694?profile=original
ATTENDEE;ROLE=REQ-PARTICIPANT;PARTSTAT=ACCEPTED;RSVP=TRUE;CN="Sarah Ma
 rtin":https://networkinginsurrey.co.uk/profile/SarahMartin
END:VEVENT
END:VCALENDAR
