BEGIN:VCALENDAR
PRODID:NingEventWidget-v1
VERSION:2.0
METHOD:PUBLISH
BEGIN:VTIMEZONE
TZID:Europe/London
X-LIC-LOCATION:Europe/London
BEGIN:DAYLIGHT
TZOFFSETFROM:+0000
TZOFFSETTO:+0100
TZNAME:BST
DTSTART:19700329T010000
RRULE:FREQ=YEARLY;BYMONTH=3;BYDAY=-1SU
END:DAYLIGHT
BEGIN:STANDARD
TZOFFSETFROM:+0100
TZOFFSETTO:+0000
TZNAME:GMT
DTSTART:19701025T020000
RRULE:FREQ=YEARLY;BYMONTH=10;BYDAY=-1SU
END:STANDARD
END:VTIMEZONE
BEGIN:VEVENT
UID:4626108:Event:2530
DTSTAMP:20260425T231610Z
SUMMARY:Ladies at 11 Morning, Weybridge
DESCRIPTION:Ladies at 11 Morning, Weybridge\n\nNetworking for women wh
 o are serious about growing their business. Make sure you bring your b
 usiness cards and any promotional material. We are a dynamic group of 
 business women who meet on a monthly basis to exchange business and to
  grow our businesses. When you experience good service or buy a good p
 roduct you tell your friends and spread the word, this is networking i
 n its simplest form. And business networking is very similar, if you l
 ike something you talk about it, you spread the word.\nThis meeting is
  also a perfect opportunity to sample the delights of this stunning br
 and new luxury boutique hotel at the heart of the historic Brooklands 
 racetrack, close to Mercedes Benz World and Brooklands Musem.\nCOST: Â
 £10 for non members (includes VAT) free for members\nBOOK HERE\nVENUE\
 nMAP & DIRECTIONS\n-----------------------\nLadies at 11 is run by NiS
  Member Sarah Martin. At Ladies at 11 we mean business, we meet at 11a
 m promptly, we network, we have structured focused meetings and we pas
 s business contacts and recommendations. We build strategic alliances 
 across a range of industries; we develop working relationships and imp
 ortantly friendship and support. We are a dynamic and energetic group 
 of women all striving for success.\n\nFor more information visit https
 ://networkinginsurrey.co.uk/events/ladies-at-11-morning-weybridge-1
DTSTART;TZID=Europe/London:20100603T110000
DTEND;TZID=Europe/London:20100603T130000
CATEGORIES:morning, weybridge, ladies_at_11
LOCATION:Brooklands Hotel KT13 0SL
WEBSITE:http://www.ladiesat11.com/
URL:http://www.ladiesat11.com/
CONTACT:07855 465 202
ORGANIZER:Sarah Martin
ATTACH;FMTTYPE="image/jpeg":http://storage.ning.com/topology/rest/1.0/
 file/get/2470848694?profile=original
ATTENDEE;ROLE=REQ-PARTICIPANT;PARTSTAT=ACCEPTED;RSVP=TRUE;CN="Caroline
  Walsh":https://networkinginsurrey.co.uk/profile/CarolineWalsh
ATTENDEE;ROLE=REQ-PARTICIPANT;PARTSTAT=ACCEPTED;RSVP=TRUE;CN="Keith Gr
 over, NiS Founder":https://networkinginsurrey.co.uk/profile/KeithGrove
 r
END:VEVENT
END:VCALENDAR
