BEGIN:VCALENDAR
PRODID:NingEventWidget-v1
VERSION:2.0
METHOD:PUBLISH
BEGIN:VTIMEZONE
TZID:Europe/London
X-LIC-LOCATION:Europe/London
BEGIN:DAYLIGHT
TZOFFSETFROM:+0000
TZOFFSETTO:+0100
TZNAME:BST
DTSTART:19700329T010000
RRULE:FREQ=YEARLY;BYMONTH=3;BYDAY=-1SU
END:DAYLIGHT
BEGIN:STANDARD
TZOFFSETFROM:+0100
TZOFFSETTO:+0000
TZNAME:GMT
DTSTART:19701025T020000
RRULE:FREQ=YEARLY;BYMONTH=10;BYDAY=-1SU
END:STANDARD
END:VTIMEZONE
BEGIN:VEVENT
UID:4626108:Event:5701
DTSTAMP:20260422T232916Z
SUMMARY:Ladies at 11 Morning, Walton on Thames
DESCRIPTION:Ladies at 11 Morning at The Swan\n\nLadies at 11 is a netw
 orking company for women who are serious about growing their business.
 \nWe are a dynamic group of business women who meet on a monthly basis
  to exchange business and to grow our businesses. When you experience 
 good service or buy a good product you tell your friends and spread th
 e word, this is networking in its simplest form. And business networki
 ng is very similar, if you like something you talk about it, you sprea
 d the word. It’s widely known 80% of business is passed through word
  of mouth and referrals. Everyone has a group of people around them, t
 heir friends, their family, their business contacts and these people a
 ll want to buy services from trusted suppliers.\nGrowing your business
  through business exchange is a two-way process, by giving to others y
 ou and your business will ultimately benefit. This is not only in rega
 rds to specific business referrals it’s also about creating a suppor
 t system of advice, help, friendship, also to gain confidence and self
 -belief as we become even more successful. Ladies at 11 does not limit
  any one trade or industry to our meetings, we recognise that people b
 uy from people and that choice is important. We are all attracted to d
 ifferent people for different reasons. We strongly believe that there 
 is enough business for everyone.\nCOST: £10 for non members (includes
  VAT) free for members\nBOOK HERE\nMAP\n-----------------------\nLadie
 s at 11 is run by NiS Member Sarah Martin. At Ladies at 11 we mean bus
 iness, we meet at 11am promptly, we network, we have structured focuse
 d meetings and we pass business contacts and recommendations. We build
  strategic alliances across a range of industries; we develop working 
 relationships and importantly friendship and support. We are a dynamic
  and energetic group of women all striving for success.\n\nFor more in
 formation visit https://networkinginsurrey.co.uk/events/ladies-at-11-m
 orning-walton-on
DTSTART;TZID=Europe/London:20101213T110000
DTEND;TZID=Europe/London:20101213T130000
CATEGORIES:networking, for, women, in, business
LOCATION:The Swan, Walton on Thames
WEBSITE:http://www.ladiesat11.com
URL:http://www.ladiesat11.com
CONTACT:07855 465 202
ORGANIZER;CN="Sarah Martin":https://networkinginsurrey.co.uk/profile/S
 arahMartin
ATTACH;FMTTYPE="image/jpeg":http://storage.ning.com/topology/rest/1.0/
 file/get/2470848694?profile=original
ATTENDEE;ROLE=REQ-PARTICIPANT;PARTSTAT=ACCEPTED;RSVP=TRUE;CN="Sarah Ma
 rtin":https://networkinginsurrey.co.uk/profile/SarahMartin
END:VEVENT
END:VCALENDAR
