BEGIN:VCALENDAR
PRODID:NingEventWidget-v1
VERSION:2.0
METHOD:PUBLISH
BEGIN:VTIMEZONE
TZID:Europe/London
X-LIC-LOCATION:Europe/London
BEGIN:DAYLIGHT
TZOFFSETFROM:+0000
TZOFFSETTO:+0100
TZNAME:BST
DTSTART:19700329T010000
RRULE:FREQ=YEARLY;BYMONTH=3;BYDAY=-1SU
END:DAYLIGHT
BEGIN:STANDARD
TZOFFSETFROM:+0100
TZOFFSETTO:+0000
TZNAME:GMT
DTSTART:19701025T020000
RRULE:FREQ=YEARLY;BYMONTH=10;BYDAY=-1SU
END:STANDARD
END:VTIMEZONE
BEGIN:VEVENT
UID:4626108:Event:2591
DTSTAMP:20260425T202855Z
SUMMARY:Ladies at 11 Morning, Richmond
DESCRIPTION:Ladies at 11 Morning, Richmond Gate Hotel\n\nNetworking fo
 r women who are serious about growing their business. Make sure you br
 ing your business cards and any promotional material.\nMAP & DIRECTION
 S\nCOST: £10 for non members (includes VAT), FREE for Ladies at 11 me
 mbers\nBOOK HERE\n-----------------------\nLadies at 11 is run by NiS 
 Member Sarah Martin. At Ladies at 11 we mean business, we meet at 11am
  promptly, we network, we have structured focused meetings and we pass
  business contacts and recommendations. We build strategic alliances a
 cross a range of industries; we develop working relationships and impo
 rtantly friendship and support. We are a dynamic and energetic group o
 f women all striving for success.\n\nFor more information visit https:
 //networkinginsurrey.co.uk/events/ladies-at-11-morning-richmond-3
DTSTART;TZID=Europe/London:20100618T110000
DTEND;TZID=Europe/London:20100618T130000
CATEGORIES:morning, business_networking, richmond, ladies_at_eleven
LOCATION:The Richmond Gate Hotel TW10 6RP
WEBSITE:http://www.foliohotels.com/richmondgate/index.htm
URL:http://www.foliohotels.com/richmondgate/index.htm
CONTACT:07855 465202
ORGANIZER:Sarah Martin
ATTACH;FMTTYPE="image/jpeg":http://storage.ning.com/topology/rest/1.0/
 file/get/2470848694?profile=original
ATTENDEE;ROLE=REQ-PARTICIPANT;PARTSTAT=ACCEPTED;RSVP=TRUE;CN="Anne-Mar
 ie Stephens":https://networkinginsurrey.co.uk/profile/AnneMarieStephen
 s
END:VEVENT
END:VCALENDAR
