BEGIN:VCALENDAR
PRODID:NingEventWidget-v1
VERSION:2.0
METHOD:PUBLISH
BEGIN:VTIMEZONE
TZID:Europe/London
X-LIC-LOCATION:Europe/London
BEGIN:DAYLIGHT
TZOFFSETFROM:+0000
TZOFFSETTO:+0100
TZNAME:BST
DTSTART:19700329T010000
RRULE:FREQ=YEARLY;BYMONTH=3;BYDAY=-1SU
END:DAYLIGHT
BEGIN:STANDARD
TZOFFSETFROM:+0100
TZOFFSETTO:+0000
TZNAME:GMT
DTSTART:19701025T020000
RRULE:FREQ=YEARLY;BYMONTH=10;BYDAY=-1SU
END:STANDARD
END:VTIMEZONE
BEGIN:VEVENT
UID:4626108:Event:6127
DTSTAMP:20260422T022844Z
SUMMARY:Ladies at 11 Morning, Epsom
DESCRIPTION:Ladies at 11 Morning at The Haywain \n\nLadies at 11 is a
  networking company for women who are serious about growing their busi
 ness.\nWe are a dynamic group of business women who meet on a monthly 
 basis to exchange business and to grow our businesses. When you experi
 ence good service or buy a good product you tell your friends and spre
 ad the word, this is networking in its simplest form. And business net
 working is very similar, if you like something you talk about it, you 
 spread the word.It’s widely known 80% of business is passed through 
 word of mouth and referrals. Everyone has a group of people around the
 m, their friends, their family, their business contacts and these peop
 le all want to buy services from trusted suppliers.At Ladies at 11 we 
 mean business, we meet at 11am promptly, we network, we have structure
 d focused meetings and we pass referrals and recommendations. We build
  strategic alliances across a range of industries; we develop working 
 relationships and importantly friendship and support. We are a dynamic
  and energetic group of women all striving for success.Growing your bu
 siness through business exchange is a two-way process, by giving to ot
 hers you and your business will ultimately benefit. This is not only i
 n regards to specific business referrals it’s also about creating a 
 support system of advice, help, friendship, also to gain confidence an
 d self-belief as we become even more successful.Ladies at 11 does not 
 limit any one trade or industry to our meetings, we recognise that peo
 ple buy from people and that choice is important. We are all attracted
  to different people for different reasons. We strongly believe that t
 here is enough business for everyone.\nThe cost is just £10.  Book b
 y clicking here\nPlease bring the correct money on the day\nMAP\n\nFor
  more information visit https://networkinginsurrey.co.uk/events/ladies
 -at-11-morning-epsom
DTSTART;TZID=Europe/London:20110124T110000
DTEND;TZID=Europe/London:20110124T130000
CATEGORIES:"women's", networking
LOCATION:Haywain Brewers Fayre
WEBSITE:http://maps.google.com/maps?f=q&source=s_q&hl=en&geocode=&q=KT
 18+7LB&sll=37.09024,-95.712891&sspn=31.784549,56.689453&ie=UTF8&hq=&hn
 ear=Epsom+KT18+7LB,+United+Kingdom&ll=51.329298,-0.271697&spn=0.012228
 ,0.02768&z=15
URL:http://maps.google.com/maps?f=q&source=s_q&hl=en&geocode=&q=KT18+7
 LB&sll=37.09024,-95.712891&sspn=31.784549,56.689453&ie=UTF8&hq=&hnear=
 Epsom+KT18+7LB,+United+Kingdom&ll=51.329298,-0.271697&spn=0.012228,0.0
 2768&z=15
CONTACT:07942 816937
ORGANIZER;CN="Yvonne Stone":https://networkinginsurrey.co.uk/profile/Y
 vonneStone
ATTACH;FMTTYPE="image/jpeg":http://storage.ning.com/topology/rest/1.0/
 file/get/2470848694?profile=original
ATTENDEE;ROLE=REQ-PARTICIPANT;PARTSTAT=ACCEPTED;RSVP=TRUE;CN="Sandra C
 ollins":https://networkinginsurrey.co.uk/profile/SandraCollins
ATTENDEE;ROLE=REQ-PARTICIPANT;PARTSTAT=ACCEPTED;RSVP=TRUE;CN="Sally Bu
 rrough":https://networkinginsurrey.co.uk/profile/SallyBurrough
ATTENDEE;ROLE=REQ-PARTICIPANT;PARTSTAT=ACCEPTED;RSVP=TRUE;CN="Rosemary
  Hemmett":https://networkinginsurrey.co.uk/profile/RosemaryHemmett
ATTENDEE;ROLE=REQ-PARTICIPANT;PARTSTAT=ACCEPTED;RSVP=TRUE;CN="Yvonne S
 tone":https://networkinginsurrey.co.uk/profile/YvonneStone
END:VEVENT
END:VCALENDAR
