BEGIN:VCALENDAR
PRODID:NingEventWidget-v1
VERSION:2.0
METHOD:PUBLISH
BEGIN:VTIMEZONE
TZID:Europe/London
X-LIC-LOCATION:Europe/London
BEGIN:DAYLIGHT
TZOFFSETFROM:+0000
TZOFFSETTO:+0100
TZNAME:BST
DTSTART:19700329T010000
RRULE:FREQ=YEARLY;BYMONTH=3;BYDAY=-1SU
END:DAYLIGHT
BEGIN:STANDARD
TZOFFSETFROM:+0100
TZOFFSETTO:+0000
TZNAME:GMT
DTSTART:19701025T020000
RRULE:FREQ=YEARLY;BYMONTH=10;BYDAY=-1SU
END:STANDARD
END:VTIMEZONE
BEGIN:VEVENT
UID:4626108:Event:2596
DTSTAMP:20260425T174222Z
SUMMARY:Ladies at 11 Morning, Cobham & Esher
DESCRIPTION:Ladies at 11 Morning, Cobham & Esher\n\nNetworking for wom
 en who are serious about growing their business. Make sure you bring y
 our business cards and any promotional material.\nCOST: £10 for non m
 embers (includes VAT), FREE for Ladies at 11 members\nBOOK HERE\nVENUE
 \nMAP\n-----------------------\nLadies at 11 is run by NiS Member Sara
 h Martin. At Ladies at 11 we mean business, we meet at 11am promptly, 
 we network, we have structured focused meetings and we pass business c
 ontacts and recommendations. We build strategic alliances across a ran
 ge of industries; we develop working relationships and importantly fri
 endship and support. We are a dynamic and energetic group of women all
  striving for success.\n\nFor more information visit https://networkin
 ginsurrey.co.uk/events/ladies-at-11-morning-cobham
DTSTART;TZID=Europe/London:20100617T110000
DTEND;TZID=Europe/London:20100617T130000
CATEGORIES:morning, business_networking, richmond, ladies_at_eleven
LOCATION:The Fairmile Arms KT11 1BW
WEBSITE:http://www.ladiesat11.com/events-detail.php?id=101
URL:http://www.ladiesat11.com/events-detail.php?id=101
CONTACT:07855 465202
ORGANIZER:Sarah Martin
ATTACH;FMTTYPE="image/jpeg":http://storage.ning.com/topology/rest/1.0/
 file/get/2470848694?profile=original
ATTENDEE;ROLE=REQ-PARTICIPANT;PARTSTAT=ACCEPTED;RSVP=TRUE;CN="Keith Gr
 over, NiS Founder":https://networkinginsurrey.co.uk/profile/KeithGrove
 r
END:VEVENT
END:VCALENDAR
