BEGIN:VCALENDAR
PRODID:NingEventWidget-v1
VERSION:2.0
METHOD:PUBLISH
BEGIN:VTIMEZONE
TZID:Europe/London
X-LIC-LOCATION:Europe/London
BEGIN:DAYLIGHT
TZOFFSETFROM:+0000
TZOFFSETTO:+0100
TZNAME:BST
DTSTART:19700329T010000
RRULE:FREQ=YEARLY;BYMONTH=3;BYDAY=-1SU
END:DAYLIGHT
BEGIN:STANDARD
TZOFFSETFROM:+0100
TZOFFSETTO:+0000
TZNAME:GMT
DTSTART:19701025T020000
RRULE:FREQ=YEARLY;BYMONTH=10;BYDAY=-1SU
END:STANDARD
END:VTIMEZONE
BEGIN:VEVENT
UID:4626108:Event:21048
DTSTAMP:20260424T195950Z
SUMMARY:Ladies at 11 Morning, Cobham
DESCRIPTION:Ladies at 11 Morning at Mundays Solicitors\n\nLadies at 11
  Networking is aÂ dynamic groupÂ of women who are serious about growin
 g their business.\nWe meet on a monthly basis to exchange business and
  to grow our businesses, so please make sure you bring your business c
 ards and any promotional material.\nItâ€™s widely known 80% of busines
 s is passed through word of mouth and referrals. Everyone has a group 
 of people around them, their friends, their family, their business con
 tacts and these people all want to buy services from trusted suppliers
 .\nGrowing your business through business exchange is a two-way proces
 s; by giving to others you and your business will ultimately benefit. 
 This is not only about business referrals -Â itâ€™s also about creatin
 g a support system of advice, help, friendship, also to gain confidenc
 e and self-belief as we become even more successful.\nLadies at 11 doe
 s not limit any one trade or industry to our meetings. We recognise th
 at people buy from people and that choice is important. We are all att
 racted to different people for different reasons, and we strongly beli
 eve that there is enough business for everyone.\nCOST: Members Â£10,Â 
 Non-Members Â£20 - you can visit a group twice before deciding if youâ
 €™d like to join the Ladies at 11 team.\nPLEASE CLICK HERE TO BOOK\nMA
 P\nDIRECTIONS\n\n-----------------------\nLadies at 11 is run by NiS M
 ember Sarah Martin. At Ladies at 11 we mean business, we meet at 11am 
 promptly, we network, we have structured focused meetings and we pass 
 business contacts and recommendations. We build strategic alliances ac
 ross a range of industries; we develop working relationships and impor
 tantly friendship and support. We are a dynamic and energetic group of
  women all striving for success.\n\nFor more information visit https:/
 /networkinginsurrey.co.uk/events/ladies-at-11-morning-cobham-2
DTSTART;TZID=Europe/London:20110616T110000
DTEND;TZID=Europe/London:20110616T130000
CATEGORIES:networking, for, women, in, business
LOCATION:Mundays Solicitors KT11 1AN
WEBSITE:http://www.ladiesat11.com
URL:http://www.ladiesat11.com
CONTACT:07855 465 202
ORGANIZER;CN="Sarah Martin":https://networkinginsurrey.co.uk/profile/S
 arahMartin
ATTACH;FMTTYPE="image/jpeg":http://storage.ning.com/topology/rest/1.0/
 file/get/2591374659?profile=original
ATTENDEE;ROLE=REQ-PARTICIPANT;PARTSTAT=ACCEPTED;RSVP=TRUE;CN="Sarah Ma
 rtin":https://networkinginsurrey.co.uk/profile/SarahMartin
END:VEVENT
END:VCALENDAR
