BEGIN:VCALENDAR
PRODID:NingEventWidget-v1
VERSION:2.0
METHOD:PUBLISH
BEGIN:VTIMEZONE
TZID:Europe/London
X-LIC-LOCATION:Europe/London
BEGIN:DAYLIGHT
TZOFFSETFROM:+0000
TZOFFSETTO:+0100
TZNAME:BST
DTSTART:19700329T010000
RRULE:FREQ=YEARLY;BYMONTH=3;BYDAY=-1SU
END:DAYLIGHT
BEGIN:STANDARD
TZOFFSETFROM:+0100
TZOFFSETTO:+0000
TZNAME:GMT
DTSTART:19701025T020000
RRULE:FREQ=YEARLY;BYMONTH=10;BYDAY=-1SU
END:STANDARD
END:VTIMEZONE
BEGIN:VEVENT
UID:4626108:Event:4135
DTSTAMP:20260425T163547Z
SUMMARY:Kingston & Richmond Women's Network Evening, Petersham
DESCRIPTION:Kingston & Richmond Women's Network Evening at the Dysart 
 Arms\n\nOur speaker is online marketing expert Nancy Williams of Tiger
  Two. She trains businesses large and small in how to make the most of
  social media to attract customers and promote their on-line reputatio
 n. Nancy's presentation this evening is: 'So I get Twitter...Now What?
 '\nSocial media has revolutionised marketing and communications, there
 's no doubt about that, and people have got involved in their droves. 
 But once you've started tweeting, spent time on Facebook and built you
 r LinkedIn connections, it's hard to know what to do next. This talk i
 s designed to help you take the next step into really getting a return
  out of your social media activity. Find out: How you can turn your so
 cial media time into income-generating time How to stand out from the 
 crowd in your social media activity What to look out for next with soc
 ial media\nNancy Williams is a social media expert, who is at the fore
 front of what's next in social media. Her company, Tiger Two, is a soc
 ial media training company and consultancy, with an emphasis on e-lear
 ning. Since 2005, it has been teaching businesses how to use social me
 dia effectively to attract more customers and manage their on-line rep
 utation.\nHow do you really turn social media to your business advanta
 ge? Come along to this meeting and find out.\n\nWhat happens at networ
 k meetings? * From 8.10pm to 8.30pm focused networking gives you the o
 pportunity to talk to as many people as possible about your business *
  There's time for people to publicise special offers or events they're
  involved in\n* Our speaker will give you lots of ideas and informatio
 n to help you build your business\n\n* After the talk, you can network
  some more and discuss what you've heard\n\n* It's very relaxed and fr
 iendly and a great opportunity to meet other women in business in the 
 same situation as you\n\n* Bring business cards and marketing leaflets
  or a small sample of your products to display\n\nCome along to our ne
 xt meeting - you'll be very welcome!\n\nCOST: £10 if you book in adva
 nce by 4pm on the day of the meeting at the latest. and £15 on the do
 or.\nBOOK HERE\nMAP\n--------------------\nIf you're looking for a net
 working group for women in the Kingston and Richmond area, you've come
  to the right place! Kingston & Richmond Women's Network brings women 
 together to make connections, promote their business and learn the ski
 lls and knowledge they can use to grow their business.\n\nFor more inf
 ormation visit https://networkinginsurrey.co.uk/events/kingston-richmo
 nd-womens
DTSTART;TZID=Europe/London:20100929T200000
DTEND;TZID=Europe/London:20100929T220000
CATEGORIES:women, business_networking_surrey, evening
LOCATION:The Dysart Arms, Petersham  TW10 7AA
WEBSITE:http://www.kingstonwomensnetwork.co.uk/page3.htm
URL:http://www.kingstonwomensnetwork.co.uk/page3.htm
CONTACT:0208 546 2122
ORGANIZER:Anne Williams
ATTACH;FMTTYPE="image/jpeg":http://storage.ning.com/topology/rest/1.0/
 file/get/2591386752?profile=original
ATTENDEE;ROLE=REQ-PARTICIPANT;PARTSTAT=ACCEPTED;RSVP=TRUE;CN="Keith Gr
 over, NiS Founder":https://networkinginsurrey.co.uk/profile/KeithGrove
 r
END:VEVENT
END:VCALENDAR
