BEGIN:VCALENDAR
PRODID:NingEventWidget-v1
VERSION:2.0
METHOD:PUBLISH
BEGIN:VTIMEZONE
TZID:Europe/London
X-LIC-LOCATION:Europe/London
BEGIN:DAYLIGHT
TZOFFSETFROM:+0000
TZOFFSETTO:+0100
TZNAME:BST
DTSTART:19700329T010000
RRULE:FREQ=YEARLY;BYMONTH=3;BYDAY=-1SU
END:DAYLIGHT
BEGIN:STANDARD
TZOFFSETFROM:+0100
TZOFFSETTO:+0000
TZNAME:GMT
DTSTART:19701025T020000
RRULE:FREQ=YEARLY;BYMONTH=10;BYDAY=-1SU
END:STANDARD
END:VTIMEZONE
BEGIN:VEVENT
UID:4626108:Event:137441
DTSTAMP:20260424T143504Z
SUMMARY:Free Kingston Business Expo
DESCRIPTION:Kingston Business Expo 2019\r\n\r\nThe annual Kingston Bus
 iness Expo is back for 2019.  It represents the single biggest networ
 king opportunity in the Borough.  \r\nNow in it’s 7th year, the an
 nual Kingston Business Expo is regarded as the largest business event 
 and biggest networking opportunity in south London.\r\nFree to attend\
 r\nOrganised by Kingston Chamber of Commerce - check out our event vi
 deo here... Sponsored by RBK, HSBC and Kingston University and sSuppo
 rted by Business Clan, Surrey Comet, Omni Local, Russell-Cooke, Direct
  Colour\r\nFree speed networking and presentations \r\nCOST: FREE to a
 ttend \r\nBOOKING: Please CLICK HERE to register for free entry - 
 \r\nMAP\r\nKingston HIll Campus is easily accessible by car and publi
 c transport and there will be plenty of free parking available.\r\n\n
 \nFor more information visit https://networkinginsurrey.co.uk/events/k
 ingston-business-expo-2
DTSTART;TZID=Europe/London:20190611T080000
DTEND;TZID=Europe/London:20190611T160000
CATEGORIES:business, expo
LOCATION:Kingston University Business School
WEBSITE:https://www.kingstonchamber.co.uk/expo/
URL:https://www.kingstonchamber.co.uk/expo/
CONTACT:020 8541 4441
ORGANIZER;CN="Amanda McLoughlin":https://networkinginsurrey.co.uk/prof
 ile/AmandaMellett667
ATTACH;FMTTYPE="image/jpeg":https://storage.ning.com/topology/rest/1.0
 /file/get/2495259751?profile=original
ATTENDEE;ROLE=REQ-PARTICIPANT;PARTSTAT=ACCEPTED;RSVP=TRUE;CN="Derek Wi
 lliamson":https://networkinginsurrey.co.uk/profile/DerekWilliamson
ATTENDEE;ROLE=REQ-PARTICIPANT;PARTSTAT=ACCEPTED;RSVP=TRUE;CN="Amanda M
 cLoughlin":https://networkinginsurrey.co.uk/profile/AmandaMellett667
END:VEVENT
END:VCALENDAR
