BEGIN:VCALENDAR
PRODID:NingEventWidget-v1
VERSION:2.0
METHOD:PUBLISH
BEGIN:VTIMEZONE
TZID:Europe/London
X-LIC-LOCATION:Europe/London
BEGIN:DAYLIGHT
TZOFFSETFROM:+0000
TZOFFSETTO:+0100
TZNAME:BST
DTSTART:19700329T010000
RRULE:FREQ=YEARLY;BYMONTH=3;BYDAY=-1SU
END:DAYLIGHT
BEGIN:STANDARD
TZOFFSETFROM:+0100
TZOFFSETTO:+0000
TZNAME:GMT
DTSTART:19701025T020000
RRULE:FREQ=YEARLY;BYMONTH=10;BYDAY=-1SU
END:STANDARD
END:VTIMEZONE
BEGIN:VEVENT
UID:4626108:Event:34394
DTSTAMP:20260421T010213Z
SUMMARY:Business Biscotti Morning, Kingston
DESCRIPTION:Business Biscotti Kingston at the Holiday Inn\n\nNetworkin
 g with Business Biscotti is different!\nWe want people to enter into m
 eaningful business relationships and gain business, but also to put so
 mething back by participating and contributing to the Community, for t
 he benefit of all of us.\nBusiness Biscotti is different from other ne
 tworking organisations – as its philosophy is to SUPPORT neighbourho
 od marketing principles; ie to think globally but to do business local
 ly.\nKingston Biscotti meets the second Friday of each month between
  10.00am - 12.00pm\nBusiness Biscotti is what networking is all about 
 – meeting and forming business relationships with like minded people
 .\n\nCOST: FREE to attend - just pay £3 for unlimited tea and coffee\
 n\nMAP \nVENUE\n\nBOOKING - No need to book - just show up at any tim
 e during the session, as there's no formality or rules...\n\nFor more 
 information visit https://networkinginsurrey.co.uk/events/kingston-bus
 iness-biscotti
DTSTART;TZID=Europe/London:20111111T100000
DTEND;TZID=Europe/London:20111111T120000
CATEGORIES:business, networking
LOCATION:Holiday Inn – Kingston South
WEBSITE:http://www.businessbiscotti.co.uk/biscottigroups/southern-engl
 and/surrey/kingston-upon-thames.html
URL:http://www.businessbiscotti.co.uk/biscottigroups/southern-england/
 surrey/kingston-upon-thames.html
CONTACT:02087862245
ORGANIZER;CN="Martin Fox":https://networkinginsurrey.co.uk/profile/Mar
 tinFox
ATTACH;FMTTYPE="image/jpeg":http://storage.ning.com/topology/rest/1.0/
 file/get/2591391145?profile=original
ATTENDEE;ROLE=REQ-PARTICIPANT;PARTSTAT=ACCEPTED;RSVP=TRUE;CN="Martin F
 ox":https://networkinginsurrey.co.uk/profile/MartinFox
ATTENDEE;ROLE=REQ-PARTICIPANT;PARTSTAT=TENTATIVE;RSVP=TRUE;CN="Philip 
 Beato":https://networkinginsurrey.co.uk/profile/PhilipBeato
END:VEVENT
END:VCALENDAR
