BEGIN:VCALENDAR
PRODID:NingEventWidget-v1
VERSION:2.0
METHOD:PUBLISH
BEGIN:VTIMEZONE
TZID:Europe/London
X-LIC-LOCATION:Europe/London
BEGIN:DAYLIGHT
TZOFFSETFROM:+0000
TZOFFSETTO:+0100
TZNAME:BST
DTSTART:19700329T010000
RRULE:FREQ=YEARLY;BYMONTH=3;BYDAY=-1SU
END:DAYLIGHT
BEGIN:STANDARD
TZOFFSETFROM:+0100
TZOFFSETTO:+0000
TZNAME:GMT
DTSTART:19701025T020000
RRULE:FREQ=YEARLY;BYMONTH=10;BYDAY=-1SU
END:STANDARD
END:VTIMEZONE
BEGIN:VEVENT
UID:4626108:Event:414428
DTSTAMP:20260421T162056Z
SUMMARY:Kindred Business Networking Virtual Brunch
DESCRIPTION:Kindred Brunch Club Morning Networking Online\r\n\r\nWe ar
 e all about being each others ambassadors, collaborating together and 
 engaging in building long term business relationships\r\nOur next Kind
 red Brunch Club is on Thurs Oct 8th \r\nWe are a networking group tha
 t is supportive, collaborative and  we  strive to become each others
  ambassadors.\r\nOur next Kindred Business Networking event we have th
 e wonderful Fiona Grundy giving us her 10 mins business showcase.  Wor
 king virtually from her home office in Twickenham, She supports small 
 businesses, start-ups & sole traders through their busy times, the fee
 ling of Admin overwhelm and free them up to concentrate on key areas o
 f their business. With over 25 years experience working in production 
 office management and admin roles in the TV and Film industries she ha
 s collected a wide range of Admin short cuts and skills along the way,
  not least keeping a good sense of humour. Communication is key.  Join
  us on Thurs Oct 8th at 10am to 12 noon and continue to develop your b
 usiness, meet new connections, create new opportunities and generate n
 ew leads, build relationships and be part of a supportive community.  
 * Make new connections * Network is small breakout groups * Join our P
 rivate FB group to promote your business * Build new relationships * B
 iz Showcase  You will have the opportunity of introducing our business
 es to all guests and chatting in breakout rooms to network informally 
 in smaller groups.\r\nCOST: £10\r\nBOOKING: Please CLICK HERE to boo
 k\n\nFor more information visit https://networkinginsurrey.co.uk/event
 s/kindred-business-networking-virtual-brunch-2
DTSTART;TZID=Europe/London:20201008T100000
DTEND;TZID=Europe/London:20201008T120000
CATEGORIES:brunch, club
LOCATION:Digital on line event
WEBSITE:https://bit.ly/2YigDMv
URL:https://bit.ly/2YigDMv
CONTACT:07970062015
ORGANIZER;CN="Barbara Ann Fitzpatrick":https://networkinginsurrey.co.u
 k/profile/barbaraannAnnfitzpatrick
ATTACH;FMTTYPE="image/jpeg":https://storage.ning.com/topology/rest/1.0
 /file/get/3799852817?profile=original
ATTENDEE;ROLE=REQ-PARTICIPANT;PARTSTAT=ACCEPTED;RSVP=TRUE;CN="Barbara 
 Ann Fitzpatrick":https://networkinginsurrey.co.uk/profile/barbaraannAn
 nfitzpatrick
END:VEVENT
END:VCALENDAR
