BEGIN:VCALENDAR
PRODID:NingEventWidget-v1
VERSION:2.0
METHOD:PUBLISH
BEGIN:VTIMEZONE
TZID:Europe/London
X-LIC-LOCATION:Europe/London
BEGIN:DAYLIGHT
TZOFFSETFROM:+0000
TZOFFSETTO:+0100
TZNAME:BST
DTSTART:19700329T010000
RRULE:FREQ=YEARLY;BYMONTH=3;BYDAY=-1SU
END:DAYLIGHT
BEGIN:STANDARD
TZOFFSETFROM:+0100
TZOFFSETTO:+0000
TZNAME:GMT
DTSTART:19701025T020000
RRULE:FREQ=YEARLY;BYMONTH=10;BYDAY=-1SU
END:STANDARD
END:VTIMEZONE
BEGIN:VEVENT
UID:4626108:Event:67889
DTSTAMP:20260419T141258Z
SUMMARY:EVENT CANCELLED  'Jungle Law' Morning Seminar, Walton-on-Thame
 s
DESCRIPTION:This event has been cancelled...\n\nIn this free, interact
 ive and engaging session, Clive Rich, the founder of Â LawbiteÂ - an o
 nline legal platform providing Simple Law for Small CompaniesÂ Â - wil
 l workshop three case studies showing common legal bear traps SMEs can
  encounter and how to deal with them. Subjects covered will include co
 ntracts for funding, IP. The case studies are fun (honestly!) but the 
 practical tips are of lasting value and will help your SME stay safe a
 nd sound at a price you can afford.\nThe Digital Work Hub is located o
 n New Zealand Avenue above the parade of shops.\nEVENT CANCELLED\nMAP\
 nCar Parks at The Heart Shopping Centre (Â£3.50 for 4 hours pay on dep
 arture)Â or Ashley Park Avenue (turn as forÂ Homebase, butÂ go straigh
 t on past the store car park entrance - Â£4 per dayÂ pay and display)Â
  \n\nFor more information visit https://networkinginsurrey.co.uk/event
 s/jungle-law-for-sme-s-10-30am-the-digital-work-hub-walton-on
DTSTART;TZID=Europe/London:20140916T103000
DTEND;TZID=Europe/London:20140916T120000
CATEGORIES:legal, workshop, walton_on_thames
LOCATION:The Digital Work Hub, KT12 1QA
WEBSITE:http://www.thedigitalworkhub.co.uk
URL:http://www.thedigitalworkhub.co.uk
CONTACT:01932 881282
ORGANIZER;CN="Lorraine Spagatner":https://networkinginsurrey.co.uk/pro
 file/LorraineSpagatner
ATTACH;FMTTYPE="image/jpeg":http://storage.ning.com/topology/rest/1.0/
 file/get/2591433625?profile=original
ATTENDEE;ROLE=REQ-PARTICIPANT;PARTSTAT=ACCEPTED;RSVP=TRUE;CN="Lorraine
  Spagatner":https://networkinginsurrey.co.uk/profile/LorraineSpagatner
END:VEVENT
END:VCALENDAR
