BEGIN:VCALENDAR
PRODID:NingEventWidget-v1
VERSION:2.0
METHOD:PUBLISH
BEGIN:VTIMEZONE
TZID:Europe/London
X-LIC-LOCATION:Europe/London
BEGIN:DAYLIGHT
TZOFFSETFROM:+0000
TZOFFSETTO:+0100
TZNAME:BST
DTSTART:19700329T010000
RRULE:FREQ=YEARLY;BYMONTH=3;BYDAY=-1SU
END:DAYLIGHT
BEGIN:STANDARD
TZOFFSETFROM:+0100
TZOFFSETTO:+0000
TZNAME:GMT
DTSTART:19701025T020000
RRULE:FREQ=YEARLY;BYMONTH=10;BYDAY=-1SU
END:STANDARD
END:VTIMEZONE
BEGIN:VEVENT
UID:4626108:Event:513
DTSTAMP:20260426T050208Z
SUMMARY:Jenny Littlejohn's Workshop: How to turn your website into a c
 lient magnet, Teddington
DESCRIPTION:NiS MEMBER Jenny Littlejohn's BUSINESS WORKSHOP - MORE DET
 AILS HERE\n\nFor more information visit https://networkinginsurrey.co.
 uk/events/jenny-littlejohns-workshop-how
DTSTART;TZID=Europe/London:20100226T093000
DTEND;TZID=Europe/London:20100226T164500
CATEGORIES:training, workshop
LOCATION:The Lensbury, Teddington
WEBSITE:
URL:
CONTACT:
ORGANIZER:Jenny Littlejohn
ATTACH;FMTTYPE="image/jpeg":http://storage.ning.com/topology/rest/1.0/
 file/get/2591377754?profile=original
END:VEVENT
END:VCALENDAR
