BEGIN:VCALENDAR
PRODID:NingEventWidget-v1
VERSION:2.0
METHOD:PUBLISH
BEGIN:VTIMEZONE
TZID:Europe/London
X-LIC-LOCATION:Europe/London
BEGIN:DAYLIGHT
TZOFFSETFROM:+0000
TZOFFSETTO:+0100
TZNAME:BST
DTSTART:19700329T010000
RRULE:FREQ=YEARLY;BYMONTH=3;BYDAY=-1SU
END:DAYLIGHT
BEGIN:STANDARD
TZOFFSETFROM:+0100
TZOFFSETTO:+0000
TZNAME:GMT
DTSTART:19701025T020000
RRULE:FREQ=YEARLY;BYMONTH=10;BYDAY=-1SU
END:STANDARD
END:VTIMEZONE
BEGIN:VEVENT
UID:4626108:Event:2707
DTSTAMP:20260425T145238Z
SUMMARY:IOD West Surrey 8.59 Club Breakfast, Guildford
DESCRIPTION:\nThe Institute of Directors monthly breakfast meeting at 
 Guildford Cathedral. Between 60 and 100 businesses attend. Non members
  welcome. English Breakfast provided.\nCost: IOD Members - £10.50, No
 n-Members - £19.00\nBOOK HERE\nYou will need to register (at no cost)
  with the IOD site to book online.\nMAP\nAmple free parking on site---
 --------------\nThe 8.59 Club is our monthly breakfast meeting (it is 
 called the 8.59 Club because it always finishes at 8.59 on the dot). E
 ach month there is an informal chance to meet new contacts whilst doin
 g a straightforward exercise that will also make everyone present thin
 k about the way they work.\n\"Welcome to the West Surrey branch. We ha
 ve about 1750 members spread across the county, based around our regul
 ar meeting point of Guildford, but we also have members who choose to 
 affiliate to us from not just the rest of Surrey, but as far afield as
  Staffordshire. This page gives more details of our regular events, as
  well as copies of our newsletters that tell you much more about what 
 we do. I hope to see you at one of our events soon.\"\nChris Ragg, Bra
 nch Chairman\n\nFor more information visit https://networkinginsurrey.
 co.uk/events/iod-west-surrey-859-club-2
DTSTART;TZID=Europe/London:20100625T070000
DTEND;TZID=Europe/London:20100625T090000
CATEGORIES:breakfast, guildford, iod, business_networking
LOCATION:The Refectory, Guildford Cathedral GU2 7UP
WEBSITE:http://www.iod.com/is-bin/INTERSHOP.enfinity/eCS/Store/en/-/GB
 P/IODContentManager-Start;sid=LNhTafre-Nv43LGzoa1Z_1Ievqggz6mYV3U=?Cha
 nnelID=5&MenuID=46&TemplateName=regional%2fcontent%2fsouth%2fw_surrey%
 2freg_south_w_surrey%2eisml
URL:http://www.iod.com/is-bin/INTERSHOP.enfinity/eCS/Store/en/-/GBP/IO
 DContentManager-Start;sid=LNhTafre-Nv43LGzoa1Z_1Ievqggz6mYV3U=?Channel
 ID=5&MenuID=46&TemplateName=regional%2fcontent%2fsouth%2fw_surrey%2fre
 g_south_w_surrey%2eisml
CONTACT:020 8941 2187
ORGANIZER:Derek Williamson, G & Co Accountants 020 8941 2187
ATTACH;FMTTYPE="image/jpeg":http://storage.ning.com/topology/rest/1.0/
 file/get/2591378297?profile=original
ATTENDEE;ROLE=REQ-PARTICIPANT;PARTSTAT=ACCEPTED;RSVP=TRUE;CN="Derek Wi
 lliamson":https://networkinginsurrey.co.uk/profile/DerekWilliamson
ATTENDEE;ROLE=REQ-PARTICIPANT;PARTSTAT=ACCEPTED;RSVP=TRUE;CN="Keith Gr
 over, NiS Founder":https://networkinginsurrey.co.uk/profile/KeithGrove
 r
END:VEVENT
END:VCALENDAR
