BEGIN:VCALENDAR
PRODID:NingEventWidget-v1
VERSION:2.0
METHOD:PUBLISH
BEGIN:VTIMEZONE
TZID:Europe/London
X-LIC-LOCATION:Europe/London
BEGIN:DAYLIGHT
TZOFFSETFROM:+0000
TZOFFSETTO:+0100
TZNAME:BST
DTSTART:19700329T010000
RRULE:FREQ=YEARLY;BYMONTH=3;BYDAY=-1SU
END:DAYLIGHT
BEGIN:STANDARD
TZOFFSETFROM:+0100
TZOFFSETTO:+0000
TZNAME:GMT
DTSTART:19701025T020000
RRULE:FREQ=YEARLY;BYMONTH=10;BYDAY=-1SU
END:STANDARD
END:VTIMEZONE
BEGIN:VEVENT
UID:4626108:Event:539522
DTSTAMP:20260421T085941Z
SUMMARY:IoD Surrey Directors Live! Networking Evening, Ottershaw
DESCRIPTION: Surrey Directors Live! at Foxhills\r\n\r\nCome along and 
 meet other members and enjoy some networking opportunities in the rela
 xed and convivial environment that is the Manor Lounge at Foxhills Clu
 b & Resort.  This bi-monthly member only informal networking event als
 o gives you the opportunity to meet the IoD Surrey team of ambassadors
 , a chance to tap into their knowledge, expertise and networks whilst 
 ensuring you are maximising your IoD membership.  Refreshments availab
 le to purchase on the night.  Places are limited so be sure to registe
 r your attendance as soon as possible.\r\nThe Surrey Branch Ambassador
 s and I look forward to seeing you there! Jarmila Yu, IoD Surrey Bran
 ch Chair\r\nCOST: FREE to IoD Members \r\nBOOKING: Please CLICK HERE
  to book this Member-only event\r\nMAP\r\nParking is ample and free\n
 \nFor more information visit https://networkinginsurrey.co.uk/events/i
 od-surrey-directors-social-networking
DTSTART;TZID=Europe/London:20230925T180000
DTEND;TZID=Europe/London:20230925T200000
CATEGORIES:director, peer, to, social, networking
LOCATION:Foxhills Club &amp; Resort
WEBSITE:https://www.foxhills.co.uk/
URL:https://www.foxhills.co.uk/
CONTACT:
ORGANIZER;CN="Jarmila Yu":https://networkinginsurrey.co.uk/profile/Jar
 milaYu
ATTACH;FMTTYPE="image/jpeg":https://storage.ning.com/topology/rest/1.0
 /file/get/12224253670?profile=original
ATTENDEE;ROLE=REQ-PARTICIPANT;PARTSTAT=ACCEPTED;RSVP=TRUE;CN="Jarmila 
 Yu":https://networkinginsurrey.co.uk/profile/JarmilaYu
END:VEVENT
END:VCALENDAR
