BEGIN:VCALENDAR
PRODID:NingEventWidget-v1
VERSION:2.0
METHOD:PUBLISH
BEGIN:VTIMEZONE
TZID:Europe/London
X-LIC-LOCATION:Europe/London
BEGIN:DAYLIGHT
TZOFFSETFROM:+0000
TZOFFSETTO:+0100
TZNAME:BST
DTSTART:19700329T010000
RRULE:FREQ=YEARLY;BYMONTH=3;BYDAY=-1SU
END:DAYLIGHT
BEGIN:STANDARD
TZOFFSETFROM:+0100
TZOFFSETTO:+0000
TZNAME:GMT
DTSTART:19701025T020000
RRULE:FREQ=YEARLY;BYMONTH=10;BYDAY=-1SU
END:STANDARD
END:VTIMEZONE
BEGIN:VEVENT
UID:4626108:Event:14826
DTSTAMP:20260422T214246Z
SUMMARY:Inspired Network Launch Evening, Woking
DESCRIPTION:Inspired Networking at the Holiday Inn \n  \nAn exciti
 ng new networking event in Woking for anyone who wants to be inspired 
 in their business and in their life!\nNo membership fees, no restricti
 ons, no elevator pitches... just a great opportunity to meet with like
  minded people to build a community of business owners, entrepreneurs,
  leaders and influencers willing to support each other in their succes
 s -and experience a regular dose of inspiration for themselves and the
 ir business!\nCome and enjoy a presentation from our fabulous keynote 
 speaker, International Success and Happiness Psychologist Kath Temple.
  \nPlease click here for more information about the group\nCOST: £
 20 including refreshments  - Special Offer: Bring a Friend and they p
 ay just £12\nMAP  Parking in Victoria Way Multi-storey\n Hope to se
 e you there!\nLinda Pope, The Inspired Living Coach and Mentor\n\nFor 
 more information visit https://networkinginsurrey.co.uk/events/inspire
 d-network-launch
DTSTART;TZID=Europe/London:20110512T190000
DTEND;TZID=Europe/London:20110512T210000
CATEGORIES:networking
LOCATION:Holiday Inn GU21 8EW
WEBSITE:http://www.holidayinn.com/hotels/gb/en/woking/xwowk/hoteldetai
 l/directions
URL:http://www.holidayinn.com/hotels/gb/en/woking/xwowk/hoteldetail/di
 rections
CONTACT:
ORGANIZER;CN="Linda Pope":https://networkinginsurrey.co.uk/profile/Lin
 daPope
ATTACH;FMTTYPE="image/jpeg":http://storage.ning.com/topology/rest/1.0/
 file/get/2591391835?profile=original
ATTENDEE;ROLE=REQ-PARTICIPANT;PARTSTAT=ACCEPTED;RSVP=TRUE;CN="Linda Po
 pe":https://networkinginsurrey.co.uk/profile/LindaPope
ATTENDEE;ROLE=REQ-PARTICIPANT;PARTSTAT=TENTATIVE;RSVP=TRUE;CN="Fiona R
 oss":https://networkinginsurrey.co.uk/profile/FionaRossGuimont
END:VEVENT
END:VCALENDAR
