BEGIN:VCALENDAR
PRODID:NingEventWidget-v1
VERSION:2.0
METHOD:PUBLISH
BEGIN:VTIMEZONE
TZID:Europe/London
X-LIC-LOCATION:Europe/London
BEGIN:DAYLIGHT
TZOFFSETFROM:+0000
TZOFFSETTO:+0100
TZNAME:BST
DTSTART:19700329T010000
RRULE:FREQ=YEARLY;BYMONTH=3;BYDAY=-1SU
END:DAYLIGHT
BEGIN:STANDARD
TZOFFSETFROM:+0100
TZOFFSETTO:+0000
TZNAME:GMT
DTSTART:19701025T020000
RRULE:FREQ=YEARLY;BYMONTH=10;BYDAY=-1SU
END:STANDARD
END:VTIMEZONE
BEGIN:VEVENT
UID:4626108:Event:75539
DTSTAMP:20260426T015721Z
SUMMARY:Inaugural Woking BOARD Dinner
DESCRIPTION:Woking Board Dinner at DoubleTree by Hilton\n\n'The Board'
  was set up for senior individuals to discuss business issues with tru
 sted colleagues, and to build strong business relationships with a pee
 r group.  \nOnly one member of each sector or profession can join ea
 ch Board. The intention is that members attend most monthly Board meet
 ings. Confidentiality of conversations is maintained under the Chatham
  House rule.\nBoard meetings are held over an early dinner - the bill 
 is equally split amongst Board members. Visitors can try out The Board
  at a special rate of £25+VAT plus an equal share of the dinner bill.
 \nCOST: £25+VAT plus dinner costs\nBOOKING: Please CLICK HERE for 
  more information or email philip@pealpartnership.co.uk.\nMAP\n\nFor
  more information visit https://networkinginsurrey.co.uk/events/inaugu
 ral-woking-board-dinner
DTSTART;TZID=Europe/London:20151116T180000
DTEND;TZID=Europe/London:20151116T200000
CATEGORIES:board, networking
LOCATION:DoubleTree by Hilton
WEBSITE:
URL:
CONTACT:0203 0044779
ORGANIZER;CN="Philip Mendonça":https://networkinginsurrey.co.uk/profi
 le/PhilipMendonca
ATTACH;FMTTYPE="image/jpeg":http://storage.ning.com/topology/rest/1.0/
 file/get/923063544?profile=original
ATTENDEE;ROLE=REQ-PARTICIPANT;PARTSTAT=ACCEPTED;RSVP=TRUE;CN="Philip M
 endonça":https://networkinginsurrey.co.uk/profile/PhilipMendonca
END:VEVENT
END:VCALENDAR
