BEGIN:VCALENDAR
PRODID:NingEventWidget-v1
VERSION:2.0
METHOD:PUBLISH
BEGIN:VTIMEZONE
TZID:Europe/London
X-LIC-LOCATION:Europe/London
BEGIN:DAYLIGHT
TZOFFSETFROM:+0000
TZOFFSETTO:+0100
TZNAME:BST
DTSTART:19700329T010000
RRULE:FREQ=YEARLY;BYMONTH=3;BYDAY=-1SU
END:DAYLIGHT
BEGIN:STANDARD
TZOFFSETFROM:+0100
TZOFFSETTO:+0000
TZNAME:GMT
DTSTART:19701025T020000
RRULE:FREQ=YEARLY;BYMONTH=10;BYDAY=-1SU
END:STANDARD
END:VTIMEZONE
BEGIN:VEVENT
UID:4626108:Event:97309
DTSTAMP:20260423T022735Z
SUMMARY:FREE HR Essentials Evening, Woking
DESCRIPTION:Free HR Essentials Evening at Hoebridge\r\n\r\nHR and Empl
 oyment Law is crucial for any business owner to be aware of. The law i
 s the same regardless of the number of employees.\r\nGetting things wr
 ong or 'not knowing what you don't know' is not a defence in an Employ
 ment Tribunal.\r\nCan you afford the risk which could amount to thousa
 nds of pounds of reputational damage?\r\nThe aim of this Seminar is to
  provide a broad and practical overview of HR and Employment Law issue
 s which any business owner or manager needs to be aware of.\r\nThis Se
 minar will cover the following:\r\nSelf employed, work and employee. D
 o you understand the differences, how and when you should use, the con
 tracts that need to be issued and the risks of getting it wrong?\r\nHo
 lidays. How to calculate and ensure compliance and ensure it does not 
 affect productivity?\r\nManaging Absence. Sickness and what rights emp
 loyees have to statutory time off for other absences eg. maternity, pa
 ternity, flexible working etc.\r\nDiscipllinary and Grievance. How to 
 discipline staff and deal with grievances.\r\nWhat the costs could be 
 of 'getting it wrong' if you receive an Employment Tribunal Claim.\r\n
 We intentionally keep our groups small to enable time for discussion a
 nd questions, therefore early booking is essential.\r\nThis event for 
 business owners who are about to employ someone or already have a team
  and are keen to ensure they are compliant.\r\nCOST: FREE to attend bu
 t booking is essential please \r\nBOOKING: For more details and to cl
 aim your free place please contact Martine Robins on 01483 603001\r\nM
 AP\r\n----------------------------\r\nClick here to find out more abou
 t the The HR Dept Woking and how we support small businesses https://w
 ww.hrdept.co.uk/woking\n\nFor more information visit https://networkin
 ginsurrey.co.uk/events/hr-essentials-for-small-businesses
DTSTART;TZID=Europe/London:20180424T093000
DTEND;TZID=Europe/London:20180424T130000
CATEGORIES:workshop
LOCATION:Hoebridge Golf Centre
WEBSITE:http://www.hrdept.co.uk/woking
URL:http://www.hrdept.co.uk/woking
CONTACT:01483 603001
ORGANIZER;CN="Martine Robins":https://networkinginsurrey.co.uk/profile
 /MartineRobins
ATTACH;FMTTYPE="image/jpeg":http://storage.ning.com/topology/rest/1.0/
 file/get/2591471773?profile=original
ATTENDEE;ROLE=REQ-PARTICIPANT;PARTSTAT=ACCEPTED;RSVP=TRUE;CN="Martine 
 Robins":https://networkinginsurrey.co.uk/profile/MartineRobins
END:VEVENT
END:VCALENDAR
