BEGIN:VCALENDAR
PRODID:NingEventWidget-v1
VERSION:2.0
METHOD:PUBLISH
BEGIN:VTIMEZONE
TZID:Europe/London
X-LIC-LOCATION:Europe/London
BEGIN:DAYLIGHT
TZOFFSETFROM:+0000
TZOFFSETTO:+0100
TZNAME:BST
DTSTART:19700329T010000
RRULE:FREQ=YEARLY;BYMONTH=3;BYDAY=-1SU
END:DAYLIGHT
BEGIN:STANDARD
TZOFFSETFROM:+0100
TZOFFSETTO:+0000
TZNAME:GMT
DTSTART:19701025T020000
RRULE:FREQ=YEARLY;BYMONTH=10;BYDAY=-1SU
END:STANDARD
END:VTIMEZONE
BEGIN:VEVENT
UID:4626108:Event:85892
DTSTAMP:20260424T075524Z
SUMMARY:MEMBER PROMO: Trusted Selling & Technology Conference Day, Dor
 king
DESCRIPTION:How Trusted Selling and Technology can Transform your Busi
 ness\n\nWhat if you could grow your business without having to make co
 ld calls?\nWhat if there were other ways to get all the clients you ne
 ed?\nWell, the good news is that there are and you can find out what t
 hey are and how to harness them at this conference, run by the most fa
 ntastic sales coach, Nicci Bonfanti, of Trusted Sales Dynamics:\n“Ho
 w Trusted Selling and Technology can Transform your Business”\nWe ha
 ve a range of speakers who will show you how to harness the power of t
 echnology to sell and how selling is much more than just the cold call
 . \nDuring this interactive and lively one day Conference, you will:\
 n\nTake away Trusted Selling techniques that will have an immediate im
 pact on your sales\nGet a taster of the latest best practices in Trust
 ed Sales that you can apply to your own business\nLearn how to harness
  technology that will transform your sales\n\nThe key note speaker is
 Frances Rutter, currently CEO of Epsom and Ewell Borough Council and 
 incoming Principal of Nescot College (North East Surrey College of Tec
 hnology). \nWe will also have a Guest Speaker who was one of 2016’s
  heroes of the Virtual Reality industry giving a demonstration.\n Oth
 er speakers include: \nAward-winning website What's On in My Town f
 ounder and owner, Paul Taylor, will be sharing what it takes to sell
  online and how being a Social Enterprise UK approved company plays a 
 part in that.\nMark Hughes from Three Tier Media will show you how 
 to increase your business visibility and attract more local customers 
 by making the most of Google.\nCassie Footman from The Onion Academy
  will teach you the no. 1 development that can double your sales with
 in a matter of weeks.\nJames White of InTouch CRM – the UK’s UK'S 
 no. 1 Sales and Marketing Automation Solution for Growing Businesses, 
 will show you how a sales process is the key to converting your prospe
 cts into customers\nThe conference will be supporting the Gorilla Laff
 s Charity, the charity idea founded by Rob Sedgewick to raise money fo
 r the St Catherine's Hospice in Crawley. \nAll aimed at helping you g
 et the sales you dream of. \nAnd without having to make a blessed col
 d call.\nCOST:- Early bird price is £80 (plus VAT) until end of 31st 
 January, then Tickets will be £100 (plus VAT) after 1st February \nB
 OOKING: Please CLICK HERE to book your place \nMAP & Directions\n\
 nFor more information visit https://networkinginsurrey.co.uk/events/ho
 w-trusted-selling-and-technology-can-transform-your-business
DTSTART;TZID=Europe/London:20170223T093000
DTEND;TZID=Europe/London:20170223T170000
CATEGORIES:conference
LOCATION:Denbies Wine Estate, Dorking
WEBSITE:http://www.denbies.co.uk/
URL:http://www.denbies.co.uk/
CONTACT:07979 866 453
ORGANIZER;CN="Karen Espley":https://networkinginsurrey.co.uk/profile/K
 arenEspley
ATTACH;FMTTYPE="image/jpeg":http://storage.ning.com/topology/rest/1.0/
 file/get/2591460323?profile=original
ATTENDEE;ROLE=REQ-PARTICIPANT;PARTSTAT=ACCEPTED;RSVP=TRUE;CN="Karen Es
 pley":https://networkinginsurrey.co.uk/profile/KarenEspley
END:VEVENT
END:VCALENDAR
