BEGIN:VCALENDAR
PRODID:NingEventWidget-v1
VERSION:2.0
METHOD:PUBLISH
BEGIN:VTIMEZONE
TZID:Europe/London
X-LIC-LOCATION:Europe/London
BEGIN:DAYLIGHT
TZOFFSETFROM:+0000
TZOFFSETTO:+0100
TZNAME:BST
DTSTART:19700329T010000
RRULE:FREQ=YEARLY;BYMONTH=3;BYDAY=-1SU
END:DAYLIGHT
BEGIN:STANDARD
TZOFFSETFROM:+0100
TZOFFSETTO:+0000
TZNAME:GMT
DTSTART:19701025T020000
RRULE:FREQ=YEARLY;BYMONTH=10;BYDAY=-1SU
END:STANDARD
END:VTIMEZONE
BEGIN:VEVENT
UID:4626108:Event:532026
DTSTAMP:20260421T032807Z
SUMMARY:FREE Afternoon Sales Webinar via Zoom
DESCRIPTION:How to maximise your chances of closing a deal\r\n\r\nOn t
 he last Thursday of every month, we provide a free, live webinar via Z
 oom. We cover a different sales topic each month. We also include time
  for Q&A in each session.\r\nIn this session we will look at How to ma
 ximise your chances of closing a deal. The webinar will look at:\r\n\r
 \n\r\nHow to engage with your customers\r\n\r\n\r\nUnderstanding the d
 ifferent buyers in the process\r\n\r\n\r\nNegotiation\r\n\r\n\r\nClosi
 ng\r\n\r\n\r\nCOST: FREE - booking is essential please\r\nBOOKING: Ple
 ase CLICK HERE for details and to register your free place\r\n-------
 -------------------------------------------\r\nYou can watch a recordi
 ng of January’s webinar here... \n\nFor more information visit htt
 ps://networkinginsurrey.co.uk/events/how-to-maximise-your-chances-of-c
 losing-a-deal
DTSTART;TZID=Europe/London:20220224T150000
DTEND;TZID=Europe/London:20220224T160000
CATEGORIES:webinar
LOCATION:Online
WEBSITE:
URL:
CONTACT:
ORGANIZER;CN="Tim Gibbons":https://networkinginsurrey.co.uk/profile/Ti
 mGibbons
ATTACH;FMTTYPE="image/jpeg":https://storage.ning.com/topology/rest/1.0
 /file/get/10115274299?profile=original
ATTENDEE;ROLE=REQ-PARTICIPANT;PARTSTAT=ACCEPTED;RSVP=TRUE;CN="Tim Gibb
 ons":https://networkinginsurrey.co.uk/profile/TimGibbons
END:VEVENT
END:VCALENDAR
