BEGIN:VCALENDAR
PRODID:NingEventWidget-v1
VERSION:2.0
METHOD:PUBLISH
BEGIN:VTIMEZONE
TZID:Europe/London
X-LIC-LOCATION:Europe/London
BEGIN:DAYLIGHT
TZOFFSETFROM:+0000
TZOFFSETTO:+0100
TZNAME:BST
DTSTART:19700329T010000
RRULE:FREQ=YEARLY;BYMONTH=3;BYDAY=-1SU
END:DAYLIGHT
BEGIN:STANDARD
TZOFFSETFROM:+0100
TZOFFSETTO:+0000
TZNAME:GMT
DTSTART:19701025T020000
RRULE:FREQ=YEARLY;BYMONTH=10;BYDAY=-1SU
END:STANDARD
END:VTIMEZONE
BEGIN:VEVENT
UID:4626108:Event:95665
DTSTAMP:20260422T203917Z
SUMMARY:Networking Mummies Morning Business Showcase, Merstham
DESCRIPTION:Morning Business Showcase - How to Improve your Online Pre
 sence\r\n\r\nNetworking Mummies ES provide FREE informal networking cu
 rrently in Redhill, Coulsdon and Ewell, and also, affordable workshops
 .\r\n\r\nWendy Ager will be giving lots of helpful tips in this worksh
 op of how to improve your online presence to help your business. Pleas
 e do take advantage of the chance to network with your fellow business
 es and learn something new at the same time!  \r\nDrinks and snacks 
 can be purchased from the community cafe inside the hub which is fully
  accessible for adults and children.\r\nCOST: £5 - booking is essenti
 al please \r\nBOOKING: Please CLICK HERE to book\r\nMAP \r\nFree on
  street parking in the nearby streets but please note that the parking
  immediately outside the Hub is limited to one hour only.\r\n---------
 ----------------------------------\r\nNetworking Mummies (East Surrey)
  is the local branch of the award winning family business community Ne
 tworking Mummies UK. Please see www.networkingmummies.com or join the 
 Networking Mummies (East Surrey) Facebook group to find out more.\r\n\
 n\nFor more information visit https://networkinginsurrey.co.uk/events/
 how-to-improve-your-online-presence
DTSTART;TZID=Europe/London:20180221T100000
DTEND;TZID=Europe/London:20180221T120000
CATEGORIES:business, workshop, "&amp", networking
LOCATION:Merstham Community Centre /Hub RH1 3HY
WEBSITE:http://www.networkingmummies.com
URL:http://www.networkingmummies.com
CONTACT:07900 806571
ORGANIZER;CN="Wendy Ager":https://networkinginsurrey.co.uk/profile/Wen
 dyAger
ATTACH;FMTTYPE="image/jpeg":http://storage.ning.com/topology/rest/1.0/
 file/get/2591454761?profile=original
ATTENDEE;ROLE=REQ-PARTICIPANT;PARTSTAT=ACCEPTED;RSVP=TRUE;CN="Wendy Ag
 er":https://networkinginsurrey.co.uk/profile/WendyAger
END:VEVENT
END:VCALENDAR
