BEGIN:VCALENDAR
PRODID:NingEventWidget-v1
VERSION:2.0
METHOD:PUBLISH
BEGIN:VTIMEZONE
TZID:Europe/London
X-LIC-LOCATION:Europe/London
BEGIN:DAYLIGHT
TZOFFSETFROM:+0000
TZOFFSETTO:+0100
TZNAME:BST
DTSTART:19700329T010000
RRULE:FREQ=YEARLY;BYMONTH=3;BYDAY=-1SU
END:DAYLIGHT
BEGIN:STANDARD
TZOFFSETFROM:+0100
TZOFFSETTO:+0000
TZNAME:GMT
DTSTART:19701025T020000
RRULE:FREQ=YEARLY;BYMONTH=10;BYDAY=-1SU
END:STANDARD
END:VTIMEZONE
BEGIN:VEVENT
UID:4626108:Event:86505
DTSTAMP:20260424T075903Z
SUMMARY:FREE 'Productive Meetings' Morning Workshop, Reigate
DESCRIPTION:How to have Productive and Meaningful Meetings\n\nWhat is 
 the cost of meetings for your business?\n\nDo your meetings frequently
  end with unresolved problems?\nAre you are frustrated by the time was
 ted in your meeting?\nIs everyone committed to achieving successful ou
 tcomes?\nDo you wish everyone was making meaningful contribution?\n\nD
 uring this interactive seminar you will identify how to have meetings 
 that;\n\nAre focused and meaningful\nHave structure and keep to time\n
 Involve everyone\nValue each person’s contribution\nResult in produc
 tive outcomes\n\nResearch shows that unproductive meetings are costing
  British businesses an average of £1,400 for each employee.\nWhat are
  your meetings costing you?\nSign up now and learn some practical tip
 s to transforming your meetings. The seminar is free and includes oppo
 rtunity to network.\nCOST: FREE to attend, but booking is essential pl
 ease.\nBOOKING: Please CLICK HERE to book your free place\nMAP\n\nFo
 r more information visit https://networkinginsurrey.co.uk/events/how-t
 o-have-productive-and-meaningful-meetings
DTSTART;TZID=Europe/London:20170216T083000
DTEND;TZID=Europe/London:20170216T103000
CATEGORIES:free, workshop
LOCATION:Reigate and Banstead Town Hall
WEBSITE:http://goo.gl/HaHbyr
URL:http://goo.gl/HaHbyr
CONTACT:01737 276000
ORGANIZER;CN="Jenny johnson":https://networkinginsurrey.co.uk/profile/
 Jennyjohnson
ATTACH;FMTTYPE="image/jpeg":http://storage.ning.com/topology/rest/1.0/
 file/get/2591458925?profile=original
ATTENDEE;ROLE=REQ-PARTICIPANT;PARTSTAT=ACCEPTED;RSVP=TRUE;CN="Jenny jo
 hnson":https://networkinginsurrey.co.uk/profile/Jennyjohnson
ATTENDEE;ROLE=REQ-PARTICIPANT;PARTSTAT=TENTATIVE;RSVP=TRUE;CN="Clare P
 ercival":https://networkinginsurrey.co.uk/profile/ClarePercival
END:VEVENT
END:VCALENDAR
