BEGIN:VCALENDAR
PRODID:NingEventWidget-v1
VERSION:2.0
METHOD:PUBLISH
BEGIN:VTIMEZONE
TZID:Europe/London
X-LIC-LOCATION:Europe/London
BEGIN:DAYLIGHT
TZOFFSETFROM:+0000
TZOFFSETTO:+0100
TZNAME:BST
DTSTART:19700329T010000
RRULE:FREQ=YEARLY;BYMONTH=3;BYDAY=-1SU
END:DAYLIGHT
BEGIN:STANDARD
TZOFFSETFROM:+0100
TZOFFSETTO:+0000
TZNAME:GMT
DTSTART:19701025T020000
RRULE:FREQ=YEARLY;BYMONTH=10;BYDAY=-1SU
END:STANDARD
END:VTIMEZONE
BEGIN:VEVENT
UID:4626108:Event:55034
DTSTAMP:20260419T140623Z
SUMMARY:FREE Exhibitor Afternoon Seminar, Guildford
DESCRIPTION:How To Exhibit More Successfully - Free Seminar For G-Live
  Exhibitors\n\nWe have organised this free seminar at G Live on Wednes
 day 17th April. Register at 1.30 for a 2 pm start. Here you will learn
  the essentials about exhibiting - some helpful tips and ideas that ca
 n make all the difference to the results you obtain.\nSetting your obj
 ectives, planning your stand, organising the graphics, attractions, ho
 w to man your stand effectively and so on.\nCOST: FREE to attend (but 
 booking is essential please)\nBOOKING: Please contact Paul Webster at
  paul@websterconsultancy.co.uk / 01344 30426\nor\n\nPaul Bridgland at 
 paul@bestofguildford.co.uk / 01483 280039\nto book your FREE place.\nM
 AP\n \n \n\nFor more information visit https://networkinginsurrey.co
 .uk/events/how-to-exhibit-more-successfully-free-seminar-for-g-live
DTSTART;TZID=Europe/London:20130417T140000
DTEND;TZID=Europe/London:20130417T153000
CATEGORIES:guildford, free, afternoon
LOCATION:G-LIVE
WEBSITE:http://goo.gl/maps/wCRKw
URL:http://goo.gl/maps/wCRKw
CONTACT:Paul at Best of Guildford 01483 280039 or Paul Webster 01344 3
 04268
ORGANIZER:Paul Bridgland at BestofGuildford: paul@bestofguildford.co.u
 k
ATTACH;FMTTYPE="image/jpeg":http://storage.ning.com/topology/rest/1.0/
 file/get/2591415739?profile=original
ATTENDEE;ROLE=REQ-PARTICIPANT;PARTSTAT=ACCEPTED;RSVP=TRUE;CN="Rebecca 
 Newenham":https://networkinginsurrey.co.uk/profile/RebeccaNewenham
END:VEVENT
END:VCALENDAR
