BEGIN:VCALENDAR
PRODID:NingEventWidget-v1
VERSION:2.0
METHOD:PUBLISH
BEGIN:VTIMEZONE
TZID:Europe/London
X-LIC-LOCATION:Europe/London
BEGIN:DAYLIGHT
TZOFFSETFROM:+0000
TZOFFSETTO:+0100
TZNAME:BST
DTSTART:19700329T010000
RRULE:FREQ=YEARLY;BYMONTH=3;BYDAY=-1SU
END:DAYLIGHT
BEGIN:STANDARD
TZOFFSETFROM:+0100
TZOFFSETTO:+0000
TZNAME:GMT
DTSTART:19701025T020000
RRULE:FREQ=YEARLY;BYMONTH=10;BYDAY=-1SU
END:STANDARD
END:VTIMEZONE
BEGIN:VEVENT
UID:4626108:Event:75043
DTSTAMP:20260426T020051Z
SUMMARY:MEMBER PROMO: Social Media Strategy Day, Cobham (Full Day Cour
 se)
DESCRIPTION:How To Create A Social Media Strategy For Business Growth 
 - Full Day Course\n\nAre You Busy On The 15th October?\nAs we're all f
 riends here I'll cut right to the chase\nLike you, I know that staying
  up to date with social media these days is becoming increasingly chal
 lenging as social platforms change and evolve....not to mention learni
 ng how to create a successful social media plan.\nLuckily, that's wher
 e myself and 14 years of online marketing experience can help.\nI'm ho
 sting a FULL DAY training course next month on how to create a social 
 media strategy that can help you to grow your business sales.\nAnd I w
 anted to see if you'd like to attend.\nThe cost?\nA very, very afforda
 ble £49.00 to attend (includes tea, coffee and lunch)\nThe course wil
 l be a balance of interactive lessons, strategies and a ton of resourc
 es (valued at over £500) which you'll get to take away with you on th
 e day.\nWhy such a great deal?\nFull transparency - the price is set l
 ow because this is a brand new updated version of my training course. 
 All I ask in return is for your honest feedback on whether I did a goo
 d job (or not). \nPlease let me know if you have any questions...\nPl
 aces are limited due to the venue room size, so if you would like to a
 ttend click on the link below now and book your place\nCOST: £49 incl
 uding lunch and refreshments\nBOOKING: Please CLICK HERE to book your
  place\nMAP\nAmple free parking\n\n\n\nFor more information visit http
 s://networkinginsurrey.co.uk/events/how-to-create-a-social-media-strat
 egy-for-business-growth-full
DTSTART;TZID=Europe/London:20151015T093000
DTEND;TZID=Europe/London:20151015T163000
CATEGORIES:social, media, training
LOCATION:The Fairmile Arms
WEBSITE:http://www.chefandbrewer.com/pub/fairmile-portsmouth-road-cobh
 am/p1206/
URL:http://www.chefandbrewer.com/pub/fairmile-portsmouth-road-cobham/p
 1206/
CONTACT:07947 322 986
ORGANIZER;CN="Mark Hughes":https://networkinginsurrey.co.uk/profile/Ma
 rkHughes
ATTACH;FMTTYPE="image/jpeg":http://storage.ning.com/topology/rest/1.0/
 file/get/2591449279?profile=original
ATTENDEE;ROLE=REQ-PARTICIPANT;PARTSTAT=ACCEPTED;RSVP=TRUE;CN="Mark Hug
 hes":https://networkinginsurrey.co.uk/profile/MarkHughes
END:VEVENT
END:VCALENDAR
