BEGIN:VCALENDAR
PRODID:NingEventWidget-v1
VERSION:2.0
METHOD:PUBLISH
BEGIN:VTIMEZONE
TZID:Europe/London
X-LIC-LOCATION:Europe/London
BEGIN:DAYLIGHT
TZOFFSETFROM:+0000
TZOFFSETTO:+0100
TZNAME:BST
DTSTART:19700329T010000
RRULE:FREQ=YEARLY;BYMONTH=3;BYDAY=-1SU
END:DAYLIGHT
BEGIN:STANDARD
TZOFFSETFROM:+0100
TZOFFSETTO:+0000
TZNAME:GMT
DTSTART:19701025T020000
RRULE:FREQ=YEARLY;BYMONTH=10;BYDAY=-1SU
END:STANDARD
END:VTIMEZONE
BEGIN:VEVENT
UID:4626108:Event:6278
DTSTAMP:20260422T081123Z
SUMMARY:Horsley Network Evening, West Horsley
DESCRIPTION:Horsley Network Evening at the King William IV\n\nLocal Ev
 ening networking, based at the King William pub in Horsley. We have a 
 speaker and plenty of opportunity for informal networking. No booking,
  just turn up and pay on the night\nMAP\n_____________________________
 _\nHorsley Network events are held once a month at the King William I
 V in West Horsley. The evening will kick off at 8pm with informal netw
 orking, announcements and introductions (don’t worry – there’s n
 o scary 60 second style promos in this group!) at 8.30 and the speaker
  will talk for about 30-40 minutes.\nEvery month we’ll select a spea
 ker based on your feedback about what you’re looking for.\n\nFor mor
 e information visit https://networkinginsurrey.co.uk/events/horsley-ne
 twork-evening-west
DTSTART;TZID=Europe/London:20110117T200000
DTEND;TZID=Europe/London:20110117T220000
CATEGORIES:informal, horsley_networking, evening, west_horsley
LOCATION:King William IV pub KT24 6BG
WEBSITE:http://www.horsleynetwork.co.uk/events
URL:http://www.horsleynetwork.co.uk/events
CONTACT:
ORGANIZER;CN="Claire Brown":https://networkinginsurrey.co.uk/profile/C
 laireBrown
ATTACH;FMTTYPE="image/jpeg":http://storage.ning.com/topology/rest/1.0/
 file/get/2591389335?profile=original
ATTENDEE;ROLE=REQ-PARTICIPANT;PARTSTAT=ACCEPTED;RSVP=TRUE;CN="Elizabet
 h Cairns":https://networkinginsurrey.co.uk/profile/ElizabethCairns
ATTENDEE;ROLE=REQ-PARTICIPANT;PARTSTAT=ACCEPTED;RSVP=TRUE;CN="Claire B
 rown":https://networkinginsurrey.co.uk/profile/ClaireBrown
ATTENDEE;ROLE=REQ-PARTICIPANT;PARTSTAT=TENTATIVE;RSVP=TRUE;CN="Carole 
 Hazlerigg":https://networkinginsurrey.co.uk/profile/CaroleHazlerigg
END:VEVENT
END:VCALENDAR
