BEGIN:VCALENDAR
PRODID:NingEventWidget-v1
VERSION:2.0
METHOD:PUBLISH
BEGIN:VTIMEZONE
TZID:Europe/London
X-LIC-LOCATION:Europe/London
BEGIN:DAYLIGHT
TZOFFSETFROM:+0000
TZOFFSETTO:+0100
TZNAME:BST
DTSTART:19700329T010000
RRULE:FREQ=YEARLY;BYMONTH=3;BYDAY=-1SU
END:DAYLIGHT
BEGIN:STANDARD
TZOFFSETFROM:+0100
TZOFFSETTO:+0000
TZNAME:GMT
DTSTART:19701025T020000
RRULE:FREQ=YEARLY;BYMONTH=10;BYDAY=-1SU
END:STANDARD
END:VTIMEZONE
BEGIN:VEVENT
UID:4626108:Event:17403
DTSTAMP:20260423T033907Z
SUMMARY:Horsley Network Evening, West Horsley
DESCRIPTION:Horsley Network Evening at Horsley Towers\n\nPlease join u
 s for local networking at our New Venue of Horsley Towers.\nWe are a s
 upportive network of local business owners. There's a speaker and plen
 ty of opportunity for informal networking. No booking, just turn up an
 d pay on the night!\n\nTonight's Speaker is Peter Black, with his pre
 sentation:\n\"Words” - are they all we have?In an age of seemingly 
 fewer words, does what we say or write really matter anymore? If speak
 ing is the wonder of conception then listening is the miracle of deliv
 ery! Crafting what is said, how it is said and acted upon is the key. 
 Public speaking. Handling the telephone. Consoling, cajoling and cackl
 ing are all aspects of lifting the spirits of ourselves, colleagues an
 d customers.  Value every chance of speaking and sharing with one or 
 thousands.\nCOST: £15 on the door\nCheck ouy our Horsley Network web
 site here\nMAP\n______________________________\nHorsley Network event
 s are held once a month at the King William IV in West Horsley. The ev
 ening will kick off at 8pm with informal networking, announcements and
  introductions (don’t worry – there’s no scary 60 second style p
 romos in this group!) at 8.30 and the speaker will talk for about 30-4
 0 minutes.\nEvery month we’ll select a speaker based on your feedbac
 k about what you’re looking for.\n\nFor more information visit https
 ://networkinginsurrey.co.uk/events/horsley-network-evening-west-2
DTSTART;TZID=Europe/London:20110516T194500
DTEND;TZID=Europe/London:20110516T220000
CATEGORIES:informal, horsley_networking, evening, west_horsley
LOCATION:Horsley Towers, Horsley Park KT24 6DU
WEBSITE:http://www.devere.co.uk/our-locations/horsley-park
URL:http://www.devere.co.uk/our-locations/horsley-park
CONTACT:07813 456865
ORGANIZER;CN="Claire Brown":https://networkinginsurrey.co.uk/profile/C
 laireBrown
ATTACH;FMTTYPE="image/jpeg":http://storage.ning.com/topology/rest/1.0/
 file/get/2591391483?profile=original
ATTENDEE;ROLE=REQ-PARTICIPANT;PARTSTAT=ACCEPTED;RSVP=TRUE;CN="Claire B
 rown":https://networkinginsurrey.co.uk/profile/ClaireBrown
END:VEVENT
END:VCALENDAR
