BEGIN:VCALENDAR
PRODID:NingEventWidget-v1
VERSION:2.0
METHOD:PUBLISH
BEGIN:VTIMEZONE
TZID:Europe/London
X-LIC-LOCATION:Europe/London
BEGIN:DAYLIGHT
TZOFFSETFROM:+0000
TZOFFSETTO:+0100
TZNAME:BST
DTSTART:19700329T010000
RRULE:FREQ=YEARLY;BYMONTH=3;BYDAY=-1SU
END:DAYLIGHT
BEGIN:STANDARD
TZOFFSETFROM:+0100
TZOFFSETTO:+0000
TZNAME:GMT
DTSTART:19701025T020000
RRULE:FREQ=YEARLY;BYMONTH=10;BYDAY=-1SU
END:STANDARD
END:VTIMEZONE
BEGIN:VEVENT
UID:4626108:Event:11704
DTSTAMP:20260422T103718Z
SUMMARY:Horsley Network Evening, West Horsley
DESCRIPTION:Horsley Network Evening at the King William IV\n\nLocal Ev
 ening networking, based at the King William pub in Horsley. We have a 
 speaker and plenty of opportunity for informal networking. No booking,
  just turn up and pay on the night\nTonight's topic: Social Media – 
 how do small businesses actually use it, and can it bring you business
 ?\nClaire Brown from Plantpassion has been using social media – blog
 ging, twitter, facebook and forums for 3 years to help her gardening b
 usiness. This network meeting will be  about how it can benefit a sma
 ll business, and answer your questions about whether Social Media is f
 or you.\nMAP\n______________________________\nHorsley Network events 
 are held once a month at the King William IV in West Horsley. The even
 ing will kick off at 8pm with informal networking, announcements and i
 ntroductions (don’t worry – there’s no scary 60 second style pro
 mos in this group!) at 8.30 and the speaker will talk for about 30-40 
 minutes.\nEvery month we’ll select a speaker based on your feedback 
 about what you’re looking for.\n\nFor more information visit https:/
 /networkinginsurrey.co.uk/events/horsley-network-evening-west-1
DTSTART;TZID=Europe/London:20110321T200000
DTEND;TZID=Europe/London:20110321T220000
CATEGORIES:informal, horsley_networking, evening, west_horsley
LOCATION:King William IV pub KT24 6BG
WEBSITE:http://www.horsleynetwork.co.uk/events
URL:http://www.horsleynetwork.co.uk/events
CONTACT:
ORGANIZER:Claire Brown
ATTACH;FMTTYPE="image/jpeg":http://storage.ning.com/topology/rest/1.0/
 file/get/2591389335?profile=original
ATTENDEE;ROLE=REQ-PARTICIPANT;PARTSTAT=ACCEPTED;RSVP=TRUE;CN="Keith Gr
 over, NiS Founder":https://networkinginsurrey.co.uk/profile/KeithGrove
 r
END:VEVENT
END:VCALENDAR
