BEGIN:VCALENDAR
PRODID:NingEventWidget-v1
VERSION:2.0
METHOD:PUBLISH
BEGIN:VTIMEZONE
TZID:Europe/London
X-LIC-LOCATION:Europe/London
BEGIN:DAYLIGHT
TZOFFSETFROM:+0000
TZOFFSETTO:+0100
TZNAME:BST
DTSTART:19700329T010000
RRULE:FREQ=YEARLY;BYMONTH=3;BYDAY=-1SU
END:DAYLIGHT
BEGIN:STANDARD
TZOFFSETFROM:+0100
TZOFFSETTO:+0000
TZNAME:GMT
DTSTART:19701025T020000
RRULE:FREQ=YEARLY;BYMONTH=10;BYDAY=-1SU
END:STANDARD
END:VTIMEZONE
BEGIN:VEVENT
UID:4626108:Event:66024
DTSTAMP:20260420T004308Z
SUMMARY:GUEST EVENT: Horsham Business Lunch Club, Horsham
DESCRIPTION:Horsham Business Lunch at The Olive Branch\n\nThis new mo
 nthly business networking lunch is for all local businesses in and ar
 ound the Horsham, West Sussex area (just across the Surrey border!)  
 It's a sociable & fun way to do business over a delicious lunch provi
 ded by one of Horsham's local eateries.\nWe have no membership fees, a
 nd the meeting price includes a sit down meal with a glass of wine, be
 er or a soft drink.\nEmail to reserve a place, as booking is essential
  with limited places for a sit-down meal.\nCOST: £25 meeting fee incl
 uding lunch and a drink\nBOOKING: Please email becky@business-intros.
 com now to book your place\nMAP\n\nFor more information visit https:/
 /networkinginsurrey.co.uk/events/horsham-business-lunch-club
DTSTART;TZID=Europe/London:20140430T120000
DTEND;TZID=Europe/London:20140430T140000
CATEGORIES:horsham, lunch
LOCATION:The Olive Branch
WEBSITE:
URL:
CONTACT:07799 660222
ORGANIZER;CN="Becky Patmore":https://networkinginsurrey.co.uk/profile/
 BeckyPatmore
ATTACH;FMTTYPE="image/jpeg":http://storage.ning.com/topology/rest/1.0/
 file/get/2591430058?profile=original
ATTENDEE;ROLE=REQ-PARTICIPANT;PARTSTAT=ACCEPTED;RSVP=TRUE;CN="Becky Pa
 tmore":https://networkinginsurrey.co.uk/profile/BeckyPatmore
END:VEVENT
END:VCALENDAR
