BEGIN:VCALENDAR
PRODID:NingEventWidget-v1
VERSION:2.0
METHOD:PUBLISH
BEGIN:VTIMEZONE
TZID:Europe/London
X-LIC-LOCATION:Europe/London
BEGIN:DAYLIGHT
TZOFFSETFROM:+0000
TZOFFSETTO:+0100
TZNAME:BST
DTSTART:19700329T010000
RRULE:FREQ=YEARLY;BYMONTH=3;BYDAY=-1SU
END:DAYLIGHT
BEGIN:STANDARD
TZOFFSETFROM:+0100
TZOFFSETTO:+0000
TZNAME:GMT
DTSTART:19701025T020000
RRULE:FREQ=YEARLY;BYMONTH=10;BYDAY=-1SU
END:STANDARD
END:VTIMEZONE
BEGIN:VEVENT
UID:4626108:Event:843
DTSTAMP:20260426T021858Z
SUMMARY:Hens Dancing Women's Wine Tasting Evening, Guildford
DESCRIPTION:\nWine Tasting at Olivetto\nElly, who is the resident wine
  tasting expert for Hens Dancing, travels to small vineyards in the Me
 diterranean to seek out delicious wines which are reasonably priced an
 d then imports them into the UK. This is a chance to try six of those 
 wines and learn which foods they go with from a two course buffet as w
 ell as, of course having some fun!\nCOST Full Members:£39.00 Trial Me
 mbers:£44.00 including wine and buffet\nBOOK HERE: To take out a free
  trial membership and find out more about this event go to http://www.
 hensdancing.com/events/\nMAP\n-----------------\nHens Dancing is for w
 omen, who are no longer doing the school run but are not quite ready f
 or WI, to have a means of getting together. From small beginnings with
  groups in Sevenoaks and Tunbridge Wells we have spread our wings into
  Surrey and the towns of Reigate, Dorking, Guildford and Godalming. By
  putting on regular events including Supper Clubs, Inspirational Talks
  and Wine Tastings we have the opportunity to socialise together, enjo
 y each other’s company and maybe even learn something in the process
 !\n\nFor more information visit https://networkinginsurrey.co.uk/event
 s/hens-dancing-womens-wine
DTSTART;TZID=Europe/London:20100225T190000
DTEND;TZID=Europe/London:20100225T220000
CATEGORIES:women, guildford
LOCATION:Olivetto Restaurant, Guildford GU1 3UA
WEBSITE:http://www.hensdancing.com/
URL:http://www.hensdancing.com/
CONTACT:0845 224 8687
ORGANIZER:Gill Bentham
ATTACH;FMTTYPE="image/jpeg":http://storage.ning.com/topology/rest/1.0/
 file/get/2591376939?profile=original
END:VEVENT
END:VCALENDAR
