BEGIN:VCALENDAR
PRODID:NingEventWidget-v1
VERSION:2.0
METHOD:PUBLISH
BEGIN:VTIMEZONE
TZID:Europe/London
X-LIC-LOCATION:Europe/London
BEGIN:DAYLIGHT
TZOFFSETFROM:+0000
TZOFFSETTO:+0100
TZNAME:BST
DTSTART:19700329T010000
RRULE:FREQ=YEARLY;BYMONTH=3;BYDAY=-1SU
END:DAYLIGHT
BEGIN:STANDARD
TZOFFSETFROM:+0100
TZOFFSETTO:+0000
TZNAME:GMT
DTSTART:19701025T020000
RRULE:FREQ=YEARLY;BYMONTH=10;BYDAY=-1SU
END:STANDARD
END:VTIMEZONE
BEGIN:VEVENT
UID:4626108:Event:49188
DTSTAMP:20260421T203701Z
SUMMARY:MEMBER PROMO: FREE Ladies Fitness Morning, Reigate
DESCRIPTION:FREE taster Boot Camp Circuits Class for Ladies\nBoot camp
  circuits is coming to the Colman Redland Centre, Reigate on Monday 5 
 November 9.15-10.15am.  Perfect for the morning workout, after school 
 or nursery drop off or to kick start your day. circuit style class aim
 ed at maximum fat burning and toning.\nCOST: FREE to attend this trial
  session\nBOOKING: Please email Helen at enquiries@thefitnessroomreig
 ate.co.uk to book your FREE space on Monday 5 November.\nMAP  Just 
 past the fire station as you go out of Reigate on Croydon Road (A242).
  Parking on site.\nPhoto © Copyright Ian Capper and licensed for r
 euse under this Creative Commons Licence\n\nFor more information visi
 t https://networkinginsurrey.co.uk/events/helen-delaney
DTSTART;TZID=Europe/London:20121105T091500
DTEND;TZID=Europe/London:20121105T101500
CATEGORIES:free, boot, camp, circuits, class
LOCATION:The Colman Redland Centre RH2 0LZ
WEBSITE:
URL:
CONTACT:07961 335881
ORGANIZER;CN="Helen Delaney":https://networkinginsurrey.co.uk/profile/
 HelenDelaney
ATTACH;FMTTYPE="image/jpeg":http://storage.ning.com/topology/rest/1.0/
 file/get/2591408929?profile=original
ATTENDEE;ROLE=REQ-PARTICIPANT;PARTSTAT=ACCEPTED;RSVP=TRUE;CN="Helen De
 laney":https://networkinginsurrey.co.uk/profile/HelenDelaney
END:VEVENT
END:VCALENDAR
