BEGIN:VCALENDAR
PRODID:NingEventWidget-v1
VERSION:2.0
METHOD:PUBLISH
BEGIN:VTIMEZONE
TZID:Europe/London
X-LIC-LOCATION:Europe/London
BEGIN:DAYLIGHT
TZOFFSETFROM:+0000
TZOFFSETTO:+0100
TZNAME:BST
DTSTART:19700329T010000
RRULE:FREQ=YEARLY;BYMONTH=3;BYDAY=-1SU
END:DAYLIGHT
BEGIN:STANDARD
TZOFFSETFROM:+0100
TZOFFSETTO:+0000
TZNAME:GMT
DTSTART:19701025T020000
RRULE:FREQ=YEARLY;BYMONTH=10;BYDAY=-1SU
END:STANDARD
END:VTIMEZONE
BEGIN:VEVENT
UID:4626108:Event:36811
DTSTAMP:20260421T210015Z
SUMMARY:Weybridge Ecademy Evening with Grant Leboff , Weybridge
DESCRIPTION:Hear Grant Leboff at The Ship\n\nWeybridge Ecademy holds r
 egular monthly sociable networking meetings at The Ship Hotel in Weybr
 idge giving you the opportunity to network and hear from great Guest
  Speakers. \nThis will be the last meeting of Weybridge Ecademy this 
 year.  So we've saved one of the best speakers til last for you!  We
  are privileged to have Grant Leboff of Sticky Marketing Club Ltd revi
 sit us and to educate us with his internationally popular topic: \nSti
 cky Marketing\n Grant explores the changes we are experiencing. He ex
 plains how it changes the way we live and work and why the Sales and M
 arketing rules need to be rewritten across all organisations.  Partic
 ipants will receive new ways to approach their communications and mark
 et themselves in order to be really effective.\n Grant Leboff is one 
 of the UK's leading Sales and Marketing experts.  His first book, Sal
 es Therapy®, introduced businesses to a new and highly effective Sale
 s philosophy.  It made the Amazon top 10 bestseller list on publicati
 on and is one of the top selling books on Sales in the UK.   His cur
 rent book, 'Sticky Marketing', provides companies with the new princip
 les of marketing so they can thrive in a Web-enabled world. Amongst ot
 hers, he has been featured in the Daily Telegraph, The Independent, Th
 e Financial Times, The Daily Mirror and The Sun, and has appeared on B
 BC Radio on numerous occasions.\nCOST: £6 on the door - non-Members w
 elcome\nEcademy Members CLICK HERE TO BOOK Non-members please email Da
 vid Nunn nunn_d@hotmail.com\nMAP\nVENUE\nThere is limited parking in T
 he Ship's own car park - free on-steet parking after 6pm\n------------
 ----------\nEcademy is the world's first online business and social ne
 tworking site (pre-dating Facebook, LinkedIn etc by several years) and
  has ove 500,000 Members worldwide.\n Ecademy encourages Members to me
 et locally wherever possible and the Weybridge Ecademy group 0rgnansed
  by NiS Members David Nunn and David Shaw has over 200 Members and mee
 ts on the last Monday evening of each month with a presentation from a
 n expert guest speaker.\n Visiti the Weybridge Ecademy home page here
 \n\nFor more information visit https://networkinginsurrey.co.uk/events
 /hear-grant-leboff-at-weybridge-ecademy
DTSTART;TZID=Europe/London:20111128T193000
DTEND;TZID=Europe/London:20111128T223000
CATEGORIES:social, networking, meeting, with, guest, speaker
LOCATION:Rear meeting room, Best Western Ship Hotel
WEBSITE:http://www.ecademy.com/module.php?mod=meeting&op=getgeo&mid=37
 184
URL:http://www.ecademy.com/module.php?mod=meeting&op=getgeo&mid=37184
CONTACT:+44 (0)7946 458748
ORGANIZER:David Nunn, Club Leader
ATTACH;FMTTYPE="image/jpeg":http://storage.ning.com/topology/rest/1.0/
 file/get/2591386062?profile=original
ATTENDEE;ROLE=REQ-PARTICIPANT;PARTSTAT=ACCEPTED;RSVP=TRUE;CN="David Nu
 nn":https://networkinginsurrey.co.uk/profile/DavidNunn
END:VEVENT
END:VCALENDAR
