BEGIN:VCALENDAR
PRODID:NingEventWidget-v1
VERSION:2.0
METHOD:PUBLISH
BEGIN:VTIMEZONE
TZID:Europe/London
X-LIC-LOCATION:Europe/London
BEGIN:DAYLIGHT
TZOFFSETFROM:+0000
TZOFFSETTO:+0100
TZNAME:BST
DTSTART:19700329T010000
RRULE:FREQ=YEARLY;BYMONTH=3;BYDAY=-1SU
END:DAYLIGHT
BEGIN:STANDARD
TZOFFSETFROM:+0100
TZOFFSETTO:+0000
TZNAME:GMT
DTSTART:19701025T020000
RRULE:FREQ=YEARLY;BYMONTH=10;BYDAY=-1SU
END:STANDARD
END:VTIMEZONE
BEGIN:VEVENT
UID:4626108:Event:6129
DTSTAMP:20260422T063937Z
SUMMARY:Health, Fitness & Wellness Networking Evening, Weybridge
DESCRIPTION:Health, Fitness & Wellness Evening at Silvermere\n\nSurrey
 's first ever networking event devoted to the health, fitness, wellnes
 s industry\nOrganised by:\nSteph Sullivan: Optimal Health Solutions\nY
 vonne Stone: Acorn to Oak Health\nSarah Martin:Â Â  Fit in Life (Ladie
 s at 11)\n\"It's a well known fact that the health/fitness/wellness in
 dustry is the next Trillion Dollar Industry\" (* Paul Zane Pilzer, wor
 ld renowned Economist).\nWith this in mind and the fact that there is 
 such a cross over between practitioners, trainers, wellness, sporting 
 professionals we thought it would be a great idea to have a networking
  event purely for local professionals with the aim of generating busin
 ess for each other.\nWe all know about the 'power circles' that exist 
 within networking groups so why not have one huge one of our own.\nWe 
 have come together and created an environment where we can learn, shar
 e business contacts/knowledge, pass business and also raise awareness 
 of how by looking after your own health and others health you can help
  malnourished children all over the world through a programme called â
 €˜Give for Realâ€™.Â \nWe will be show casing this amazing global prog
 ram as well as facilitating an evening of networking to help you and y
 our businesses.\nWe also have celebrity health and fitness expert Char
 lotte Ord talking to us about the importance of this growing industry 
 - website details for Phoenix ProFitness\nSo....\n\nDo you want to mee
 t like-minded individuals who all share a similar passion in life?\nWo
 uld you like to be part of the first ever networking event in Surrey p
 urely for health, fitness, wellness and sporting professionals?\nDo yo
 u want to learn how you can help malnourished children across the glob
 e?\n8 stands available to promote your business / product just Â£20 in
 cludes entrance fee.\n\nThen please come and join us...\nCOST: Â£10\nC
 LICK HERE TO BOOKÂ Â \n\nFor more information visit https://networking
 insurrey.co.uk/events/health-fitness-wellness
DTSTART;TZID=Europe/London:20110126T190000
DTEND;TZID=Europe/London:20110126T213000
CATEGORIES:"fitness and wellness networking"
LOCATION:The Inn on the Lake
WEBSITE:http://www.innonthelakesurrey.co.uk/
URL:http://www.innonthelakesurrey.co.uk/
CONTACT:07942 816937
ORGANIZER;CN="Yvonne Stone":https://networkinginsurrey.co.uk/profile/Y
 vonneStone
ATTACH;FMTTYPE="image/jpeg":http://storage.ning.com/topology/rest/1.0/
 file/get/2591389320?profile=original
ATTENDEE;ROLE=REQ-PARTICIPANT;PARTSTAT=ACCEPTED;RSVP=TRUE;CN="Liz Kend
 all":https://networkinginsurrey.co.uk/profile/LizKendall
ATTENDEE;ROLE=REQ-PARTICIPANT;PARTSTAT=ACCEPTED;RSVP=TRUE;CN="Steph Su
 llivan":https://networkinginsurrey.co.uk/profile/StephSullivan
ATTENDEE;ROLE=REQ-PARTICIPANT;PARTSTAT=ACCEPTED;RSVP=TRUE;CN="Paula Ke
 mp":https://networkinginsurrey.co.uk/profile/HolisticTherapieswithPaul
 aKemp
ATTENDEE;ROLE=REQ-PARTICIPANT;PARTSTAT=ACCEPTED;RSVP=TRUE;CN="Sarah Ma
 rtin":https://networkinginsurrey.co.uk/profile/SarahMartin
ATTENDEE;ROLE=REQ-PARTICIPANT;PARTSTAT=ACCEPTED;RSVP=TRUE;CN="Yvonne S
 tone":https://networkinginsurrey.co.uk/profile/YvonneStone
END:VEVENT
END:VCALENDAR
