BEGIN:VCALENDAR
PRODID:NingEventWidget-v1
VERSION:2.0
METHOD:PUBLISH
BEGIN:VTIMEZONE
TZID:Europe/London
X-LIC-LOCATION:Europe/London
BEGIN:DAYLIGHT
TZOFFSETFROM:+0000
TZOFFSETTO:+0100
TZNAME:BST
DTSTART:19700329T010000
RRULE:FREQ=YEARLY;BYMONTH=3;BYDAY=-1SU
END:DAYLIGHT
BEGIN:STANDARD
TZOFFSETFROM:+0100
TZOFFSETTO:+0000
TZNAME:GMT
DTSTART:19701025T020000
RRULE:FREQ=YEARLY;BYMONTH=10;BYDAY=-1SU
END:STANDARD
END:VTIMEZONE
BEGIN:VEVENT
UID:4626108:Event:413411
DTSTAMP:20260421T162035Z
SUMMARY:FREE Heads Up Surrey Heath Evening Online
DESCRIPTION:Heads Up: online small business networking meetup #SurreyH
 eath \r\nHeads Up: online small business networking meetup #SurreyHea
 th \r\nJoin a community of local small business owners in and around 
 Surrey Heath to discuss business challenges, problem solve and get adv
 ice. This relaxed session will be hosted by your local leader, Jarmila
  Yu\r\nEnterprise Nation has created the Heads Up campaign to build
  communities of small business owners throughout the UK who can suppor
 t one another. Whether you've got an idea for a business, have just st
 arted, or have been running your business for years - this meet-up is 
 perfect for anyone who wants to make connections, discuss challenges, 
 ask opinions and share advice.\r\nRunning your own business is rewardi
 ng but can be lonely at times. Staying connected is good for business 
 and for your mental wellbeing.\r\nJoin us from the comfort of your hom
 e, bring along a cuppa and be part of a local community of supportive 
 small business owners.\r\nThis event is supported by Enterprise Nation
  and sponsored by Salesforce and Mercedes-Benz.\r\nWe look forward to 
 meeting you!\r\n COST: FREE\r\nBOOKING: Please CLICK HERE to register 
 to attend\r\n#startup #smallbusiness #sme #business #networking\n\nFor
  more information visit https://networkinginsurrey.co.uk/events/heads-
 up-meetup
DTSTART;TZID=Europe/London:20201007T180000
DTEND;TZID=Europe/London:20201007T190000
CATEGORIES:zoom, networking
LOCATION:Zoom
WEBSITE:https://lnkd.in/dhCwzT7
URL:https://lnkd.in/dhCwzT7
CONTACT:
ORGANIZER:Jarmila Yu (Surrey Heath Local Leader and Advisor for Enterp
 rise Nation)
ATTACH;FMTTYPE="image/jpeg":https://storage.ning.com/topology/rest/1.0
 /file/get/7989328081?profile=original
ATTENDEE;ROLE=REQ-PARTICIPANT;PARTSTAT=ACCEPTED;RSVP=TRUE;CN="Jarmila 
 Yu":https://networkinginsurrey.co.uk/profile/JarmilaYu
END:VEVENT
END:VCALENDAR
