BEGIN:VCALENDAR
PRODID:NingEventWidget-v1
VERSION:2.0
METHOD:PUBLISH
BEGIN:VTIMEZONE
TZID:Europe/London
X-LIC-LOCATION:Europe/London
BEGIN:DAYLIGHT
TZOFFSETFROM:+0000
TZOFFSETTO:+0100
TZNAME:BST
DTSTART:19700329T010000
RRULE:FREQ=YEARLY;BYMONTH=3;BYDAY=-1SU
END:DAYLIGHT
BEGIN:STANDARD
TZOFFSETFROM:+0100
TZOFFSETTO:+0000
TZNAME:GMT
DTSTART:19701025T020000
RRULE:FREQ=YEARLY;BYMONTH=10;BYDAY=-1SU
END:STANDARD
END:VTIMEZONE
BEGIN:VEVENT
UID:4626108:Event:94810
DTSTAMP:20260422T191351Z
SUMMARY:GUEST EVENT Surrey Chambers Afternoon Tea, Fleet
DESCRIPTION:Surrey Chambers Have your cake and eat it! Afternoon Netw
 orking at Stockton House, Fleet \r\n\r\nSurrey & Hampshire Chambers of
  Commerce invite you to our afternoon networking. Following on from la
 st years success, this is the perfect opportunity to grow your busines
 s connections by meeting a wide range of companies from locations arou
 nd the Surrey and Hampshire border.   Format: Facilitated networking 
 Refreshments: Tea and coffee with scone or cake  Don't forget to bring
  plenty of business cards!\r\nCOST: Member Rate: £10 | Non Member Ra
 te: £15 meeting fee including cake & tea\r\n\r\nBOOKING: Please  CLI
 CK HERE to book \r\nMAP\r\n\r\n\r\nDIRECTIONS\r\n\n\nFor more inform
 ation visit https://networkinginsurrey.co.uk/events/have-your-cake-amp
 -eat-it-afternoon-networking
DTSTART;TZID=Europe/London:20180221T143000
DTEND;TZID=Europe/London:20180221T160000
CATEGORIES:afternoon, networking, fleet, surrey_chambers, hampshire
LOCATION:Stockton House GU51 4NS
WEBSITE:https://www.surrey-chambers.co.uk/event-listing/event-detail/?
 eidQS=7AD8338C-A7D8-43F0-9EE3-5BD3FE11EBE1
URL:https://www.surrey-chambers.co.uk/event-listing/event-detail/?eidQ
 S=7AD8338C-A7D8-43F0-9EE3-5BD3FE11EBE1
CONTACT:01483 735540
ORGANIZER;CN="Ivan Spooner":https://networkinginsurrey.co.uk/profile/I
 vanSpooner
ATTACH;FMTTYPE="image/jpeg":http://storage.ning.com/topology/rest/1.0/
 file/get/2591467102?profile=original
ATTENDEE;ROLE=REQ-PARTICIPANT;PARTSTAT=ACCEPTED;RSVP=TRUE;CN="Ivan Spo
 oner":https://networkinginsurrey.co.uk/profile/IvanSpooner
END:VEVENT
END:VCALENDAR
