BEGIN:VCALENDAR
PRODID:NingEventWidget-v1
VERSION:2.0
METHOD:PUBLISH
BEGIN:VTIMEZONE
TZID:Europe/London
X-LIC-LOCATION:Europe/London
BEGIN:DAYLIGHT
TZOFFSETFROM:+0000
TZOFFSETTO:+0100
TZNAME:BST
DTSTART:19700329T010000
RRULE:FREQ=YEARLY;BYMONTH=3;BYDAY=-1SU
END:DAYLIGHT
BEGIN:STANDARD
TZOFFSETFROM:+0100
TZOFFSETTO:+0000
TZNAME:GMT
DTSTART:19701025T020000
RRULE:FREQ=YEARLY;BYMONTH=10;BYDAY=-1SU
END:STANDARD
END:VTIMEZONE
BEGIN:VEVENT
UID:4626108:Event:101014
DTSTAMP:20260421T203737Z
SUMMARY:Haslemere Connections Breakfast
DESCRIPTION:Haslemere Connections at the Lythe Hill Hotel\r\n\r\nOur 
 FORTNIGHTLY MEETINGS are run by Paul Bridgland & Mike Black, with rel
 axed, fun, friendly networking (that produces results). \r\nRelaxed, 
 fun, friendly networking (that produces results).\r\nOur meetings are 
 for local business people who don't do (very) early mornings, can't ma
 ke a weekly commitment and don't believe in exclusivity for member cat
 egories.\r\n\r\nVisitors are welcome to come along and check us out tw
 o or three times with absolutely no commitment or expectation to join 
 - you'll know if it's right for you but we can guarantee you that you'
 ll receive a very warm welcome wherever you attend ... come and give u
 s a try!\r\nBusiness should be fun!\r\n\r\nCOST: £15 including brea
 kfast - payable on-line or on the door.\r\nBOOKING: Please CLICK HERE
  to book\r\nMAP\n\nFor more information visit https://networkinginsur
 rey.co.uk/events/haslemere-connections-breakfast-1
DTSTART;TZID=Europe/London:20181031T080000
DTEND;TZID=Europe/London:20181031T103000
CATEGORIES:regular, business, networking, meeting
LOCATION:Lythe Hill Hotel and Spa
WEBSITE:http://www.lythehill.co.uk/
URL:http://www.lythehill.co.uk/
CONTACT:07799888388
ORGANIZER;CN="Paul A Bridgland":https://networkinginsurrey.co.uk/profi
 le/PaulABridgland
ATTACH;FMTTYPE="image/jpeg":http://storage.ning.com/topology/rest/1.0/
 file/get/1005232163?profile=original
ATTENDEE;ROLE=REQ-PARTICIPANT;PARTSTAT=ACCEPTED;RSVP=TRUE;CN="Paul A B
 ridgland":https://networkinginsurrey.co.uk/profile/PaulABridgland
END:VEVENT
END:VCALENDAR
