BEGIN:VCALENDAR
PRODID:NingEventWidget-v1
VERSION:2.0
METHOD:PUBLISH
BEGIN:VTIMEZONE
TZID:Europe/London
X-LIC-LOCATION:Europe/London
BEGIN:DAYLIGHT
TZOFFSETFROM:+0000
TZOFFSETTO:+0100
TZNAME:BST
DTSTART:19700329T010000
RRULE:FREQ=YEARLY;BYMONTH=3;BYDAY=-1SU
END:DAYLIGHT
BEGIN:STANDARD
TZOFFSETFROM:+0100
TZOFFSETTO:+0000
TZNAME:GMT
DTSTART:19701025T020000
RRULE:FREQ=YEARLY;BYMONTH=10;BYDAY=-1SU
END:STANDARD
END:VTIMEZONE
BEGIN:VEVENT
UID:4626108:Event:102962
DTSTAMP:20260424T052756Z
SUMMARY:NEW: Hampshire Business Expo 2019, Farnborough
DESCRIPTION:Hampshire Business Expo 2019\n\nHampshire Business Expo is
  a brand new show for 2019 launched following the continued success of
  Surrey Business Expo which is now in its twelfth year.\nThe shows are
  organised by Connect Surrey and Eagle Radio and attract pro-active lo
 cal business within a 40-mile radius. Business Expo’s are the best w
 ay to promote your business – it’s your opportunity to showcase wh
 at you do to the maximum number of people, in one place on one day!\nC
 OST: FREE to attend as a Visitor \nBOOKING: Please CLICK HERE to regi
 ster as a free Visitor; Exhibitors Click to choose and BOOK A STAND a
 t the Show (subject to availability, selling fast!)\nMAP\n\nFor more i
 nformation visit https://networkinginsurrey.co.uk/events/hampshire-bus
 iness-expo-2019
DTSTART;TZID=Europe/London:20190226T080000
DTEND;TZID=Europe/London:20190226T153000
CATEGORIES:"business_expo.", exhibition, farnborough
LOCATION:Farnborough International Exhibition Centre GU14 6XE
WEBSITE:
URL:
CONTACT:
ORGANIZER;CN="Paul A Bridgland":https://networkinginsurrey.co.uk/profi
 le/PaulABridgland
ATTACH;FMTTYPE="image/jpeg":https://storage.ning.com/topology/rest/1.0
 /file/get/641243735?profile=original
ATTENDEE;ROLE=REQ-PARTICIPANT;PARTSTAT=ACCEPTED;RSVP=TRUE;CN="Paul A B
 ridgland":https://networkinginsurrey.co.uk/profile/PaulABridgland
END:VEVENT
END:VCALENDAR
