BEGIN:VCALENDAR
PRODID:NingEventWidget-v1
VERSION:2.0
METHOD:PUBLISH
BEGIN:VTIMEZONE
TZID:Europe/London
X-LIC-LOCATION:Europe/London
BEGIN:DAYLIGHT
TZOFFSETFROM:+0000
TZOFFSETTO:+0100
TZNAME:BST
DTSTART:19700329T010000
RRULE:FREQ=YEARLY;BYMONTH=3;BYDAY=-1SU
END:DAYLIGHT
BEGIN:STANDARD
TZOFFSETFROM:+0100
TZOFFSETTO:+0000
TZNAME:GMT
DTSTART:19701025T020000
RRULE:FREQ=YEARLY;BYMONTH=10;BYDAY=-1SU
END:STANDARD
END:VTIMEZONE
BEGIN:VEVENT
UID:4626108:Event:97594
DTSTAMP:20260422T162219Z
SUMMARY:Guilford Ladies Morning, West Clandon
DESCRIPTION:Guildford Ladies Morning at Clandon Regis Golf Club\r\n\r\
 nAre you looking for a female-orientated business support and networki
 ng group in the Guildford area?\r\nGuildford Ladies is a local group f
 or local business women in Guildford and the surrounding area. Guildfo
 rd Ladies has been running successfully for over four years – it’s
  a lively and relaxed event which we know you’ll enjoy – it’s a 
 great introduction to networking for business women in Guildford.\r\nI
 t really is the most powerful way to find customers and grow your busi
 ness but don’t take our word for it, come along and find out for you
 rself.\r\nEveryone will have an opportunity to tell the group about th
 emselves in 60 seconds (or less) – we’d like to know..\r\n1. Who y
 ou are 2. What your business does 3. What makes your business special 
 or different 4. Particular customers you are looking for right now (re
 ferrals) 5. Don’t forget to repeat your name and business name again
  at the end and add a strap line if you really want to create an impre
 ssion!\r\nAfter we’ve heard from everyone, we will have a 10 minute 
 presentation from one of our members, then there will be a One2One sec
 tion whereby you pick a business in the room you’d like to know a bi
 t more about and spend 10 minutes together, finally we wrap up the mee
 ting by going around the room once more, hearing from people who have 
 done business with someone else at the meeting or who would like to me
 et up with someone in the meeting. \r\nSome of the most valuable netw
 orking takes place before the meeting starts (and afterwards) so try t
 o arrive for 10:30 AM if possible so that you have a good 30 minutes t
 o mingle and talk casually to other attendees.\r\nHope you can join us
  - we look forward to seeing you there!\r\nCOST: £12 including coffee
  and pastries\r\nBOOKING: Please CLICK HERE to book in as a Visitor\
 r\nMAP \n\nFor more information visit https://networkinginsurrey.co.uk
 /events/guilford-ladies-morning-west-clandon-4
DTSTART;TZID=Europe/London:20180425T110000
DTEND;TZID=Europe/London:20180425T130000
CATEGORIES:ladies, networking, "only!"
LOCATION:Clandon Regis Golf Club GU4 7TT
WEBSITE:https://connectsurrey.uk/events/guildford-ladies-2018-04-25/
URL:https://connectsurrey.uk/events/guildford-ladies-2018-04-25/
CONTACT:07525 738758
ORGANIZER;CN="Sally Castro Gouveia":https://networkinginsurrey.co.uk/p
 rofile/SallyCastroGouveia
ATTACH;FMTTYPE="image/jpeg":http://storage.ning.com/topology/rest/1.0/
 file/get/2591474214?profile=original
ATTENDEE;ROLE=REQ-PARTICIPANT;PARTSTAT=ACCEPTED;RSVP=TRUE;CN="Sally Ca
 stro Gouveia":https://networkinginsurrey.co.uk/profile/SallyCastroGouv
 eia
END:VEVENT
END:VCALENDAR
