BEGIN:VCALENDAR
PRODID:NingEventWidget-v1
VERSION:2.0
METHOD:PUBLISH
BEGIN:VTIMEZONE
TZID:Europe/London
X-LIC-LOCATION:Europe/London
BEGIN:DAYLIGHT
TZOFFSETFROM:+0000
TZOFFSETTO:+0100
TZNAME:BST
DTSTART:19700329T010000
RRULE:FREQ=YEARLY;BYMONTH=3;BYDAY=-1SU
END:DAYLIGHT
BEGIN:STANDARD
TZOFFSETFROM:+0100
TZOFFSETTO:+0000
TZNAME:GMT
DTSTART:19701025T020000
RRULE:FREQ=YEARLY;BYMONTH=10;BYDAY=-1SU
END:STANDARD
END:VTIMEZONE
BEGIN:VEVENT
UID:4626108:Event:532789
DTSTAMP:20260425T041359Z
SUMMARY:#GuildfordBUZZ Morning Live! Guildford
DESCRIPTION:Business Buzz Morning at ZERO, Guildford \n\nJoin this vi
 brant, award-winning, drop-in networking event and make new business c
 onnections. Set in the centre of Guildford, at ZERO, meeting on the 4t
 h Thursday of every month between 10.00 AM  & Noon, BUZZ is a must fo
 r local business owners and decision-makers.\nOur monthly business ne
 tworking events will sit comfortably alongside all of your existing n
 etworking commitments, with no subscription and our vast contact datab
 ase and marketing strategy we guarantee that you will meet people that
  are outside your current network enabling you to expand your connecti
 ons to benefit your business.\nTake a look at here\n- local networkin
 g to form and establish relationships and trust - make new business c
 ontacts - promote your services and products - meet like-minded busine
 ss people - exchange ideas and experiences with others - identify pote
 ntial product or service providers - establish strategic alliances and
  synergies\nHosted by Jane Tyson and Phil Shepherd - surrey@business
 -buzz.org \nCOST:  £6 (including your tea/coffee during the event
 )\nBOOKING: Please click HERE to book \nMAP\n----------------------
 ----------------\n\nFor more information visit https://networkinginsur
 rey.co.uk/events/guildfordbuzz-morning-live-guildford-1
DTSTART;TZID=Europe/London:20220526T100000
DTEND;TZID=Europe/London:20220526T120000
CATEGORIES:networking, guildford, morninig, business_buzz
LOCATION:ZERO
WEBSITE:https://www.zerocarbonguildford.org/
URL:https://www.zerocarbonguildford.org/
CONTACT:07768 392686
ORGANIZER:Jane Tyson and Phil Shepherd
ATTACH;FMTTYPE="image/jpeg":https://storage.ning.com/topology/rest/1.0
 /file/get/3360768703?profile=original
ATTENDEE;ROLE=REQ-PARTICIPANT;PARTSTAT=ACCEPTED;RSVP=TRUE;CN="Jane Tys
 on":https://networkinginsurrey.co.uk/profile/JaneTyson
END:VEVENT
END:VCALENDAR
