BEGIN:VCALENDAR
PRODID:NingEventWidget-v1
VERSION:2.0
METHOD:PUBLISH
BEGIN:VTIMEZONE
TZID:Europe/London
X-LIC-LOCATION:Europe/London
BEGIN:DAYLIGHT
TZOFFSETFROM:+0000
TZOFFSETTO:+0100
TZNAME:BST
DTSTART:19700329T010000
RRULE:FREQ=YEARLY;BYMONTH=3;BYDAY=-1SU
END:DAYLIGHT
BEGIN:STANDARD
TZOFFSETFROM:+0100
TZOFFSETTO:+0000
TZNAME:GMT
DTSTART:19701025T020000
RRULE:FREQ=YEARLY;BYMONTH=10;BYDAY=-1SU
END:STANDARD
END:VTIMEZONE
BEGIN:VEVENT
UID:4626108:Event:531871
DTSTAMP:20260421T045529Z
SUMMARY:#GuildfordBUZZ Morning Live! Guildford
DESCRIPTION:Business Buzz Morning at The Tunsgate Quarter \r\n\r\nJoi
 n this vibrant, award-winning, drop-in networking event and make new b
 usiness connections. Set in the centre of Guildford, at Tunsgate Quart
 er, meeting on the 4th Thursday of every month between 10.00 AM  & No
 on, BUZZ is a must for local business owners and decision-makers.\r\nO
 ur monthly business networking events will sit comfortably alongside
  all of your existing networking commitments, with no subscription and
  our vast contact database and marketing strategy we guarantee that yo
 u will meet people that are outside your current network enabling you 
 to expand your connections to benefit your business.\r\nTake a look at
  here\r\n- local networking to form and establish relationships and 
 trust - make new business contacts - promote your services and product
 s - meet like-minded business people - exchange ideas and experiences 
 with others - identify potential product or service providers - establ
 ish strategic alliances and synergies\r\nHosted by Jane Tyson and @Ph
 il Shepherd - surrey@business-buzz.org \r\nCOST:  £6 (including 
 your tea/coffee during the event)\r\nBOOKING: Please click HERE to b
 ook \r\nMAP\r\n--------------------------------------\r\nVisit my web
  page here...\n\nFor more information visit https://networkinginsurrey
 .co.uk/events/guildfordbuzz-morning-guildford-7
DTSTART;TZID=Europe/London:20220224T100000
DTEND;TZID=Europe/London:20220224T120000
CATEGORIES:networking, guildford, morninig, business_buzz
LOCATION:Tunsgate Quarter, Guildford
WEBSITE:https://tunsgatequarter.com/
URL:https://tunsgatequarter.com/
CONTACT:07768 392686
ORGANIZER:Jane Tyson and Phil Shepherd
ATTACH;FMTTYPE="image/jpeg":https://storage.ning.com/topology/rest/1.0
 /file/get/3360768703?profile=original
ATTENDEE;ROLE=REQ-PARTICIPANT;PARTSTAT=ACCEPTED;RSVP=TRUE;CN="Jane Tys
 on":https://networkinginsurrey.co.uk/profile/JaneTyson
END:VEVENT
END:VCALENDAR
