BEGIN:VCALENDAR
PRODID:NingEventWidget-v1
VERSION:2.0
METHOD:PUBLISH
BEGIN:VTIMEZONE
TZID:Europe/London
X-LIC-LOCATION:Europe/London
BEGIN:DAYLIGHT
TZOFFSETFROM:+0000
TZOFFSETTO:+0100
TZNAME:BST
DTSTART:19700329T010000
RRULE:FREQ=YEARLY;BYMONTH=3;BYDAY=-1SU
END:DAYLIGHT
BEGIN:STANDARD
TZOFFSETFROM:+0100
TZOFFSETTO:+0000
TZNAME:GMT
DTSTART:19701025T020000
RRULE:FREQ=YEARLY;BYMONTH=10;BYDAY=-1SU
END:STANDARD
END:VTIMEZONE
BEGIN:VEVENT
UID:4626108:Event:302200
DTSTAMP:20260423T001824Z
SUMMARY:#GuildfordBUZZ Morning, Guildford
DESCRIPTION:Business Buzz Morning at TheTunsgate QuarterÂ \n\nJoin thi
 s vibrant, award-winning, drop-in networking event and make new busine
 ss connections. Set in the centre of Guildford, at Tunsgate Quarter, m
 eeting on the 4th Thursday of every month between 10.00 AMÂ  & Noon, B
 UZZ is a must for local business owners and decision-makers.\nOur mont
 hlyÂ business networking eventsÂ will sit comfortably alongside all of
  your existing networking commitments, with no subscription and our va
 st contact database and marketing strategy we guarantee that you will 
 meet people that are outside your current network enabling you to expa
 nd your connections to benefit your business.\nTake a look at here\n-Â
  local networking toÂ form and establish relationships and trust - mak
 e new business contacts - promote your services and products - meet li
 ke-minded business people - exchange ideas and experiences with others
  - identify potential product or service providers - establish strateg
 ic alliances and synergies\nHosted by Jane Tyson -Â surrey@business-bu
 zz.orgÂ \nCOST:Â Â Â£5Â (including your tea/coffee during the event)\n
 BOOKING: No need to pre-book, just turn up and pay on the door\nMAP\n-
 -------------------------------------\nVisit my web page here...\n\nFo
 r more information visit https://networkinginsurrey.co.uk/events/guild
 fordbuzz-morning-guildford-6
DTSTART;TZID=Europe/London:20200227T100000
DTEND;TZID=Europe/London:20200227T120000
CATEGORIES:networking, guildford, morninig, business_buzz
LOCATION:Tunsgate Quarter, Guildford
WEBSITE:https://tunsgatequarter.com/
URL:https://tunsgatequarter.com/
CONTACT:07768 392686
ORGANIZER;CN="Jane Tyson":https://networkinginsurrey.co.uk/profile/Jan
 eTyson
ATTACH;FMTTYPE="image/jpeg":https://storage.ning.com/topology/rest/1.0
 /file/get/3360768703?profile=original
ATTENDEE;ROLE=REQ-PARTICIPANT;PARTSTAT=ACCEPTED;RSVP=TRUE;CN="Jane Tys
 on":https://networkinginsurrey.co.uk/profile/JaneTyson
END:VEVENT
END:VCALENDAR
