BEGIN:VCALENDAR
PRODID:NingEventWidget-v1
VERSION:2.0
METHOD:PUBLISH
BEGIN:VTIMEZONE
TZID:Europe/London
X-LIC-LOCATION:Europe/London
BEGIN:DAYLIGHT
TZOFFSETFROM:+0000
TZOFFSETTO:+0100
TZNAME:BST
DTSTART:19700329T010000
RRULE:FREQ=YEARLY;BYMONTH=3;BYDAY=-1SU
END:DAYLIGHT
BEGIN:STANDARD
TZOFFSETFROM:+0100
TZOFFSETTO:+0000
TZNAME:GMT
DTSTART:19701025T020000
RRULE:FREQ=YEARLY;BYMONTH=10;BYDAY=-1SU
END:STANDARD
END:VTIMEZONE
BEGIN:VEVENT
UID:4626108:Event:412150
DTSTAMP:20260421T205822Z
SUMMARY:Guildford Virtual Buzz Coffee Time Online
DESCRIPTION:Business Buzz Virtual Coffee Time\nAn exciting new virtual
  networking event for businesses to connect and build relationships lo
 cally in Guildford, Surrey.\nIf you are looking to make new contacts, 
 build relationships, and promote your business in #Guildford this even
 t is for you.\nWhy Virtual Buzz? \n\nOpen to all\nRelaxed, Informal a
 nd Friendly\nMove freely around the virtual room \n\nWhen\nMeeting ev
 ery 4th Thursday of the month between 10am-12pm\nHosted By @Jane Tyson
 \nCOST: £5\nBOOKING: Please click here to book your place\n\nFor mor
 e information visit https://networkinginsurrey.co.uk/events/guildford-
 virtual-buzz-coffee-time-online-3
DTSTART;TZID=Europe/London:20201022T100000
DTEND;TZID=Europe/London:20201022T120000
CATEGORIES:virtual, networking
LOCATION:Online
WEBSITE:https://www.business-buzz.org/events-tickets/guildford-virtual
 -buzz-thursday-22-10-2020/
URL:https://www.business-buzz.org/events-tickets/guildford-virtual-buz
 z-thursday-22-10-2020/
CONTACT:07768 392686
ORGANIZER;CN="Jane Tyson":https://networkinginsurrey.co.uk/profile/Jan
 eTyson
ATTACH;FMTTYPE="image/jpeg":https://storage.ning.com/topology/rest/1.0
 /file/get/5840264069?profile=original
ATTENDEE;ROLE=REQ-PARTICIPANT;PARTSTAT=ACCEPTED;RSVP=TRUE;CN="Jane Tys
 on":https://networkinginsurrey.co.uk/profile/JaneTyson
END:VEVENT
END:VCALENDAR
