BEGIN:VCALENDAR
PRODID:NingEventWidget-v1
VERSION:2.0
METHOD:PUBLISH
BEGIN:VTIMEZONE
TZID:Europe/London
X-LIC-LOCATION:Europe/London
BEGIN:DAYLIGHT
TZOFFSETFROM:+0000
TZOFFSETTO:+0100
TZNAME:BST
DTSTART:19700329T010000
RRULE:FREQ=YEARLY;BYMONTH=3;BYDAY=-1SU
END:DAYLIGHT
BEGIN:STANDARD
TZOFFSETFROM:+0100
TZOFFSETTO:+0000
TZNAME:GMT
DTSTART:19701025T020000
RRULE:FREQ=YEARLY;BYMONTH=10;BYDAY=-1SU
END:STANDARD
END:VTIMEZONE
BEGIN:VEVENT
UID:4626108:Event:53170
DTSTAMP:20260419T161721Z
SUMMARY:Guildford Means Business Expo, Guildford
DESCRIPTION:Guildford Means Business - 6th Â successful year!\n\nWill 
 you be there at G-Live? You should be.  When The Best of Guildford tea
 med up with Webster Consultancy to present Guildford Means Business in
  2012, they produced the busiest and best Guildford show to date. And 
 now the show is on the move to G-Live, right in the centre of Guildfor
 d within walking distance of hundreds of businesses in the town.\nWell
  over 100 exhibitors are expected with massive support coming from the
  main stakeholders and businesses in Guildford and the surrounding tow
 ns and villages.\nA stylish exhibition, great seminars, super networki
 ng, speed networking, 1-2-1 advice, the show is simply a must for any 
 business owner or manager wanting to win more business in the Guildfor
 d area.\nThe Show typically attracts some 800 businessÂ  owners and ma
 nagers during the course of the day each year.\nCOST: FREE to Visitors
  including FREE Seminars\nBOOKING: Please CLICK HEREÂ to register to a
 ttend for free\nEXHIBITOR INFOÂ & Stand Booking:Â Â Take a stand for y
 our business! Many are Â already sold to repeat exhibitors from the 20
 12 Expo...\nMAP\n---------------------------------------\nThis event i
 s organised by NiS MembersÂ Â Paul BridglandÂ (The Best of Guildford)Â
  andÂ Paul WebsterÂ (Webster Consultancy).\n\nFor more information vis
 it https://networkinginsurrey.co.uk/events/guildford-means-business-ex
 po-guildford
DTSTART;TZID=Europe/London:20130515T000000
DTEND;TZID=Europe/London:20130515T235900
CATEGORIES:b2b, exhibition
LOCATION:G-Live GU1 2AA
WEBSITE:http://www.guildfordmeansbusiness.com
URL:http://www.guildfordmeansbusiness.com
CONTACT:0118 973 1976
ORGANIZER:Paul Webster and The Best of Guildford
ATTACH;FMTTYPE="image/jpeg":http://storage.ning.com/topology/rest/1.0/
 file/get/2591413429?profile=original
ATTENDEE;ROLE=REQ-PARTICIPANT;PARTSTAT=ACCEPTED;RSVP=TRUE;CN="Keith Gr
 over, NiS Founder":https://networkinginsurrey.co.uk/profile/KeithGrove
 r
ATTENDEE;ROLE=REQ-PARTICIPANT;PARTSTAT=ACCEPTED;RSVP=TRUE;CN="Nicki Da
 vies":https://networkinginsurrey.co.uk/profile/NickiDavies
ATTENDEE;ROLE=REQ-PARTICIPANT;PARTSTAT=ACCEPTED;RSVP=TRUE;CN="Diana Me
 ade":https://networkinginsurrey.co.uk/profile/DianaMeade
END:VEVENT
END:VCALENDAR
