BEGIN:VCALENDAR
PRODID:NingEventWidget-v1
VERSION:2.0
METHOD:PUBLISH
BEGIN:VTIMEZONE
TZID:Europe/London
X-LIC-LOCATION:Europe/London
BEGIN:DAYLIGHT
TZOFFSETFROM:+0000
TZOFFSETTO:+0100
TZNAME:BST
DTSTART:19700329T010000
RRULE:FREQ=YEARLY;BYMONTH=3;BYDAY=-1SU
END:DAYLIGHT
BEGIN:STANDARD
TZOFFSETFROM:+0100
TZOFFSETTO:+0000
TZNAME:GMT
DTSTART:19701025T020000
RRULE:FREQ=YEARLY;BYMONTH=10;BYDAY=-1SU
END:STANDARD
END:VTIMEZONE
BEGIN:VEVENT
UID:4626108:Event:102955
DTSTAMP:20260424T094535Z
SUMMARY:Guildford Ladies Visitors Morning (Men Welcome!), West Clandon
DESCRIPTION:Guildford Ladies Visitors Morning at Clandon Regis Golf Cl
 ub (Men Welcome Too!)\r\n\r\nOur monthly neetings are for ladies only
  BUT TODAY WE'RE WELCOMING MEN to join us for our open meeting where V
 isitors are invited to join in th efun! Our meetings are run by Sally 
 Castro Gouveia and & Rebecca Newenham, with relaxed, fun, friendly net
 working (that produces results).\r\nOur meetings are for local busines
 s ladies who like to meet on a monthly basis and find it difficult to 
 do the start of the day - we don't operate exclusivity for member cate
 gories.\r\n\r\nVisitors are welcome to come along and check us out a c
 ouple of times with absolutely no commitment or expectation to join - 
 you'll know if it's right for you but we can guarantee you that you'll
  receive a very warm welcome wherever you attend ... come and give us 
 a try!\r\n\r\nBusiness should be fun!\r\nCOST: £12 including coffee
  and cakes - payable on-line or on the door.\r\nBOOKING: Please CLICK
  HERE to book\r\nMAP\n\nFor more information visit https://networking
 insurrey.co.uk/events/guildford-ladies-visitors-morning-men-welcome-we
 st-clandon
DTSTART;TZID=Europe/London:20190123T110000
DTEND;TZID=Europe/London:20190123T130000
CATEGORIES:regular, business, networking, meeting
LOCATION:Clandon Regis Golf Club
WEBSITE:http://www.clandonregis-golfclub.co.uk/Intro.aspx
URL:http://www.clandonregis-golfclub.co.uk/Intro.aspx
CONTACT:07525738758
ORGANIZER:Sally Castro Gouveia
ATTACH;FMTTYPE="image/jpeg":https://storage.ning.com/topology/rest/1.0
 /file/get/800686262?profile=original
ATTENDEE;ROLE=REQ-PARTICIPANT;PARTSTAT=ACCEPTED;RSVP=TRUE;CN="Paul A B
 ridgland":https://networkinginsurrey.co.uk/profile/PaulABridgland
END:VEVENT
END:VCALENDAR
