BEGIN:VCALENDAR
PRODID:NingEventWidget-v1
VERSION:2.0
METHOD:PUBLISH
BEGIN:VTIMEZONE
TZID:Europe/London
X-LIC-LOCATION:Europe/London
BEGIN:DAYLIGHT
TZOFFSETFROM:+0000
TZOFFSETTO:+0100
TZNAME:BST
DTSTART:19700329T010000
RRULE:FREQ=YEARLY;BYMONTH=3;BYDAY=-1SU
END:DAYLIGHT
BEGIN:STANDARD
TZOFFSETFROM:+0100
TZOFFSETTO:+0000
TZNAME:GMT
DTSTART:19701025T020000
RRULE:FREQ=YEARLY;BYMONTH=10;BYDAY=-1SU
END:STANDARD
END:VTIMEZONE
BEGIN:VEVENT
UID:4626108:Event:101022
DTSTAMP:20260421T211206Z
SUMMARY:Guildford Ladies Morning, West Clandon
DESCRIPTION:Clandon Regis Golf Club at West Clandon near Guildford\r\n
 \r\nOur MONTHLY MEETINGS for ladies only are run by Sally Castro Gou
 veia and & Rebecca Newenham, with relaxed, fun, friendly networking (t
 hat produces results).\r\nOur meetings are for local business ladies w
 ho like to meet on a monthly basis and find it difficult to do the sta
 rt of the day - we don't operate exclusivity for member categories.\r\
 n\r\nVisitors are welcome to come along and check us out a couple of t
 imes with absolutely no commitment or expectation to join - you'll kno
 w if it's right for you but we can guarantee you that you'll receive a
  very warm welcome wherever you attend ... come and give us a try!\r\n
 \r\nBusiness should be fun!\r\nCOST: £12 including coffee and cakes
  - payable on-line or on the door.\r\nBOOKING: Please CLICK HERE to 
 book\r\nMAP\n\nFor more information visit https://networkinginsurrey.c
 o.uk/events/guildford-ladies-coffee-west-clandon
DTSTART;TZID=Europe/London:20181024T110000
DTEND;TZID=Europe/London:20181024T130000
CATEGORIES:regular, business, networking, meeting
LOCATION:Clandon Regis Golf Club
WEBSITE:http://www.clandonregis-golfclub.co.uk/Intro.aspx
URL:http://www.clandonregis-golfclub.co.uk/Intro.aspx
CONTACT:07525738758
ORGANIZER:Sally Castro Gouveia
ATTACH;FMTTYPE="image/jpeg":http://storage.ning.com/topology/rest/1.0/
 file/get/800686262?profile=original
ATTENDEE;ROLE=REQ-PARTICIPANT;PARTSTAT=ACCEPTED;RSVP=TRUE;CN="Paul A B
 ridgland":https://networkinginsurrey.co.uk/profile/PaulABridgland
END:VEVENT
END:VCALENDAR
