BEGIN:VCALENDAR
PRODID:NingEventWidget-v1
VERSION:2.0
METHOD:PUBLISH
BEGIN:VTIMEZONE
TZID:Europe/London
X-LIC-LOCATION:Europe/London
BEGIN:DAYLIGHT
TZOFFSETFROM:+0000
TZOFFSETTO:+0100
TZNAME:BST
DTSTART:19700329T010000
RRULE:FREQ=YEARLY;BYMONTH=3;BYDAY=-1SU
END:DAYLIGHT
BEGIN:STANDARD
TZOFFSETFROM:+0100
TZOFFSETTO:+0000
TZNAME:GMT
DTSTART:19701025T020000
RRULE:FREQ=YEARLY;BYMONTH=10;BYDAY=-1SU
END:STANDARD
END:VTIMEZONE
BEGIN:VEVENT
UID:4626108:Event:103736
DTSTAMP:20260424T080601Z
SUMMARY:Guildford Hub Morning, Guildford
DESCRIPTION:Guildford Hub - should your business close?\r\n\r\nWhy did
  you start your business? Was it a natural follow on from a corporate 
 career? Perhaps you turned a hobby or interest into a business? For th
 e most successful businesses there is a real driver or passion around 
 why they started.\r\nAllen Ruddock started Motorhome Heaven in 2016 an
 d the business had it's first hires in early 2017. It was all part of 
 a retirement masterplan. In this session Allen will talk through the p
 lan, the approach to starting the business and the key lessons of the 
 first two years of operation.\r\nHe'll also explain why he's decided t
 o close/sell the business.\r\nThere are all manner of lessons you can 
 take from Allen's journey. Why not come along and find out. Your first
  visit to the hub is free.\r\nCOST: Your first visit to the hub is FRE
 E\r\nBOOKING: Please CLICK HERE to book your place\r\nMAP\r\nThere i
 s ample paid car parking near the venue.\n\nFor more information visit
  https://networkinginsurrey.co.uk/events/guildford-hub-should-your-bus
 iness-close-educ
DTSTART;TZID=Europe/London:20190204T093000
DTEND;TZID=Europe/London:20190204T120000
CATEGORIES:education
LOCATION:The Guildford Harbour Hotel GU1 3DA
WEBSITE:
URL:
CONTACT:
ORGANIZER;CN="Allen Ruddock":https://networkinginsurrey.co.uk/profile/
 AllenRuddock
ATTACH;FMTTYPE="image/jpeg":https://storage.ning.com/topology/rest/1.0
 /file/get/939924293?profile=original
ATTENDEE;ROLE=REQ-PARTICIPANT;PARTSTAT=ACCEPTED;RSVP=TRUE;CN="Allen Ru
 ddock":https://networkinginsurrey.co.uk/profile/AllenRuddock
END:VEVENT
END:VCALENDAR
