BEGIN:VCALENDAR
PRODID:NingEventWidget-v1
VERSION:2.0
METHOD:PUBLISH
BEGIN:VTIMEZONE
TZID:Europe/London
X-LIC-LOCATION:Europe/London
BEGIN:DAYLIGHT
TZOFFSETFROM:+0000
TZOFFSETTO:+0100
TZNAME:BST
DTSTART:19700329T010000
RRULE:FREQ=YEARLY;BYMONTH=3;BYDAY=-1SU
END:DAYLIGHT
BEGIN:STANDARD
TZOFFSETFROM:+0100
TZOFFSETTO:+0000
TZNAME:GMT
DTSTART:19701025T020000
RRULE:FREQ=YEARLY;BYMONTH=10;BYDAY=-1SU
END:STANDARD
END:VTIMEZONE
BEGIN:VEVENT
UID:4626108:Event:146987
DTSTAMP:20260422T193313Z
SUMMARY:Guildford Hub Morning - Planning your customer journey
DESCRIPTION:Guildford Hub Planning your customer journey \r\n\r\nYour
  customer’s journey with your business starts well before they buy f
 rom you. In fact the early stages of that journey determine how quickl
 y they buy from you and, in some circumstances, whether they buy from 
 you at all.\r\nThis session will look at the customer journey from fir
 st contact right the way through to aftersales service, repeat busines
 s, referrals, cross-sells and upsells. It will also look at learning f
 rom when things go wrong and how your customer journey may be leaking 
 opportunities. Just looking at some of the example customer journey’
 s will provide inspiration for your own business.\r\nCOST: Your first 
 visit to the hub is FREE\r\nBOOKING: Please CLICK HERE to book your
  place\r\nMAP\r\nThere is ample paid car parking near the venue.\n\nFo
 r more information visit https://networkinginsurrey.co.uk/events/guild
 ford-hub-planning-your-customer-journey
DTSTART;TZID=Europe/London:20190617T093000
DTEND;TZID=Europe/London:20190617T120000
CATEGORIES:education
LOCATION:The Guildford Harbour Hotel GU1 3DA
WEBSITE:https://www.google.com/maps/place/Guildford+Harbour+Hotel/@51.
 2386643,-0.5693003,17z/data=!3m1!4b1!4m5!3m4!1s0x4875d09929b79361:0xf4
 3531b83dcbb1a2!8m2!3d51.238661!4d-0.5671116
URL:https://www.google.com/maps/place/Guildford+Harbour+Hotel/@51.2386
 643,-0.5693003,17z/data=!3m1!4b1!4m5!3m4!1s0x4875d09929b79361:0xf43531
 b83dcbb1a2!8m2!3d51.238661!4d-0.5671116
CONTACT:01483901488
ORGANIZER;CN="Allen Ruddock":https://networkinginsurrey.co.uk/profile/
 JoanneMcGowan
ATTACH;FMTTYPE="image/jpeg":https://storage.ning.com/topology/rest/1.0
 /file/get/1774440661?profile=original
ATTENDEE;ROLE=REQ-PARTICIPANT;PARTSTAT=ACCEPTED;RSVP=TRUE;CN="Allen Ru
 ddock":https://networkinginsurrey.co.uk/profile/JoanneMcGowan
END:VEVENT
END:VCALENDAR
