BEGIN:VCALENDAR
PRODID:NingEventWidget-v1
VERSION:2.0
METHOD:PUBLISH
BEGIN:VTIMEZONE
TZID:Europe/London
X-LIC-LOCATION:Europe/London
BEGIN:DAYLIGHT
TZOFFSETFROM:+0000
TZOFFSETTO:+0100
TZNAME:BST
DTSTART:19700329T010000
RRULE:FREQ=YEARLY;BYMONTH=3;BYDAY=-1SU
END:DAYLIGHT
BEGIN:STANDARD
TZOFFSETFROM:+0100
TZOFFSETTO:+0000
TZNAME:GMT
DTSTART:19701025T020000
RRULE:FREQ=YEARLY;BYMONTH=10;BYDAY=-1SU
END:STANDARD
END:VTIMEZONE
BEGIN:VEVENT
UID:4626108:Event:105647
DTSTAMP:20260424T034916Z
SUMMARY:Guildford Hub - Monthly Mastermind
DESCRIPTION:Guildford Hub - Monthly Mastermind\r\n\r\nThis is the thir
 d of our monthly 4M meeting - Members Mini Master Mind. How have you g
 ot on with the commitments you made last month. Have you met regularly
  with your business buddy?\r\nEach month, members will commit to the g
 roup to take action and will pair up with another member so they can h
 el-p each other deliver on those commitments. Action and accountabilit
 y - two powerful ways to drive your business forward.\r\nWhat is a Mas
 termind?\r\nI have taken part in a number of Mastermind type groups. O
 ne even came up with the name for my motorhome business. The concept o
 f the Mastermind Group was formally introduced by Napoleon Hill in his
  book \"Think and Grow Rich\". He described the Mastermind principle a
 s: \"The coordination of knowledge and effort of two or more people, w
 ho work toward a definite purpose, in the spirit of harmony.\"\r\nItâ€
 ™s a synergistic effect where the result is greater than the sum of th
 em parts. Itâ€™s most effective when you put together a bunch of brigh
 t business owners and thatâ€™s just what we have in the Hub. So in thi
 s session we will take a challenge or problem from 4 members, and toge
 ther, we will come up with solutions.\r\n\r\n4 members\r\n4 challenges
 \r\n4 solutions\r\n\r\nGuests and members from other Hubs can attend a
 nd participate, but only Guildford Hub members can put forward the cha
 llenges. In my experience, you often learn more from the solutions to 
 other peopleâ€™s challenges than the solution of your own challenge so
  donâ€™t be put off participating. Book now and be prepared to give yo
 ur brain a work out.\r\nGuildford members â€“ message me with your cha
 llenges to get one of the four hot seats.\r\nCOST: Your first visit to
  the hub is FREE\r\nBOOKING: PleaseÂ CLICK HEREÂ to book your place\r\
 nMAP\r\nThere is ample paid car parking near the venue.\n\nFor more in
 formation visit https://networkinginsurrey.co.uk/events/guildford-hub-
 monthly-mastermind
DTSTART;TZID=Europe/London:20190325T093000
DTEND;TZID=Europe/London:20190325T120000
CATEGORIES:education
LOCATION:The Guildford Harbour Hotel
WEBSITE:https://www.google.com/maps/place/51%C2%B014&amp;amp;amp;amp;#
 039;19.2%22N+0%C2%B034&amp;amp;amp;amp;#039;01.6%22W/@51.238661,-0.567
 6588,19z/data=!3m1!4b1!4m5!3m4!1s0x0:0x0!8m2!3d51.238661!4d-0.5671116?
 hl=en-GB
URL:https://www.google.com/maps/place/51%C2%B014&amp;amp;amp;amp;#039;
 19.2%22N+0%C2%B034&amp;amp;amp;amp;#039;01.6%22W/@51.238661,-0.5676588
 ,19z/data=!3m1!4b1!4m5!3m4!1s0x0:0x0!8m2!3d51.238661!4d-0.5671116?hl=e
 n-GB
CONTACT:01483901488
ORGANIZER;CN="Allen Ruddock":https://networkinginsurrey.co.uk/profile/
 JoanneMcGowan
ATTACH;FMTTYPE="image/jpeg":https://storage.ning.com/topology/rest/1.0
 /file/get/1518096905?profile=original
ATTENDEE;ROLE=REQ-PARTICIPANT;PARTSTAT=ACCEPTED;RSVP=TRUE;CN="Allen Ru
 ddock":https://networkinginsurrey.co.uk/profile/JoanneMcGowan
END:VEVENT
END:VCALENDAR
