BEGIN:VCALENDAR
PRODID:NingEventWidget-v1
VERSION:2.0
METHOD:PUBLISH
BEGIN:VTIMEZONE
TZID:Europe/London
X-LIC-LOCATION:Europe/London
BEGIN:DAYLIGHT
TZOFFSETFROM:+0000
TZOFFSETTO:+0100
TZNAME:BST
DTSTART:19700329T010000
RRULE:FREQ=YEARLY;BYMONTH=3;BYDAY=-1SU
END:DAYLIGHT
BEGIN:STANDARD
TZOFFSETFROM:+0100
TZOFFSETTO:+0000
TZNAME:GMT
DTSTART:19701025T020000
RRULE:FREQ=YEARLY;BYMONTH=10;BYDAY=-1SU
END:STANDARD
END:VTIMEZONE
BEGIN:VEVENT
UID:4626108:Event:114731
DTSTAMP:20260424T051006Z
SUMMARY:Guildford Hub Monthly Mastermind Morning
DESCRIPTION:Guildford Hub - Monthly Mastermind\r\n\r\nThis is the four
 th of our monthly 4M meeting - Members Mini Master Mind. How have you 
 got on with the commitments you made last month. Have you met regularl
 y with your business buddy?\r\nEach month, members will commit to the 
 group to take action and will pair up with another member so they can 
 hel-p each other deliver on those commitments. Action and accountabili
 ty - two powerful ways to drive your business forward.\r\n\r\nWhat is 
 a Mastermind?\r\nI have taken part in a number of Mastermind type grou
 ps. One even came up with the name for my motorhome business. The conc
 ept of the Mastermind Group was formally introduced by Napoleon Hill i
 n his book \"Think and Grow Rich\". He described the Mastermind princi
 ple as: \"The coordination of knowledge and effort of two or more peop
 le, who work toward a definite purpose, in the spirit of harmony.\"\r\
 nIt’s a synergistic effect where the result is greater than the sum 
 of them parts. It’s most effective when you put together a bunch of 
 bright business owners and that’s just what we have in the Hub. So i
 n this session we will take a challenge or problem from 4 members, and
  together, we will come up with solutions.\r\n\r\n4 members\r\n4 chall
 enges\r\n4 solutions\r\n\r\nGuests and members from other Hubs can att
 end and participate, but only Guildford Hub members can put forward th
 e challenges. In my experience, you often learn more from the solution
 s to other people’s challenges than the solution of your own challen
 ge so don’t be put off participating. Book now and be prepared to gi
 ve your brain a work out.\r\nGuildford members – message me with you
 r challenges to get one of the four hot seats.\r\nCOST: Your first vis
 it to the hub is FREE\r\nBOOKING: Please CLICK HERE to book your pl
 ace\r\nMAP\r\nThere is ample paid car parking near the venue.\n\nFor m
 ore information visit https://networkinginsurrey.co.uk/events/guildfor
 d-hub-monthly-mastermind-1
DTSTART;TZID=Europe/London:20190429T093000
DTEND;TZID=Europe/London:20190429T120000
CATEGORIES:education
LOCATION:The Guildford Harbour Hotel
WEBSITE:https://www.google.com/maps/place/51%C2%B014&amp;amp;amp;#039;
 19.2%22N+0%C2%B034&amp;amp;amp;#039;01.6%22W/@51.238661,-0.5676588,19z
 /data=!3m1!4b1!4m5!3m4!1s0x0:0x0!8m2!3d51.238661!4d-0.5671116?hl=en-GB
URL:https://www.google.com/maps/place/51%C2%B014&amp;amp;amp;#039;19.2
 %22N+0%C2%B034&amp;amp;amp;#039;01.6%22W/@51.238661,-0.5676588,19z/dat
 a=!3m1!4b1!4m5!3m4!1s0x0:0x0!8m2!3d51.238661!4d-0.5671116?hl=en-GB
CONTACT:01483901488
ORGANIZER;CN="Allen Ruddock":https://networkinginsurrey.co.uk/profile/
 JoanneMcGowan
ATTACH;FMTTYPE="image/jpeg":https://storage.ning.com/topology/rest/1.0
 /file/get/1774440661?profile=original
ATTENDEE;ROLE=REQ-PARTICIPANT;PARTSTAT=ACCEPTED;RSVP=TRUE;CN="Allen Ru
 ddock":https://networkinginsurrey.co.uk/profile/JoanneMcGowan
END:VEVENT
END:VCALENDAR
