BEGIN:VCALENDAR
PRODID:NingEventWidget-v1
VERSION:2.0
METHOD:PUBLISH
BEGIN:VTIMEZONE
TZID:Europe/London
X-LIC-LOCATION:Europe/London
BEGIN:DAYLIGHT
TZOFFSETFROM:+0000
TZOFFSETTO:+0100
TZNAME:BST
DTSTART:19700329T010000
RRULE:FREQ=YEARLY;BYMONTH=3;BYDAY=-1SU
END:DAYLIGHT
BEGIN:STANDARD
TZOFFSETFROM:+0100
TZOFFSETTO:+0000
TZNAME:GMT
DTSTART:19701025T020000
RRULE:FREQ=YEARLY;BYMONTH=10;BYDAY=-1SU
END:STANDARD
END:VTIMEZONE
BEGIN:VEVENT
UID:4626108:Event:147086
DTSTAMP:20260424T131523Z
SUMMARY:Guildford Hub Member Spotlight Morning
DESCRIPTION:Guildford Hub - Member Spotlight  \r\n\r\nAt the Guildfo
 rd Hub we always state our meetings are not networking events. Our eve
 nts are all about education, collaboration and inspiration. Networking
  happens though because it occurs naturally whenever you put a bunch o
 f enthusiastic business owners together. What we don't do is the forma
 l \"stand up for 60 seconds and tell us about your business\" round th
 at most networking groups follow.\r\n\r\nHowever, at the Hub we have a
  range of fantastic businesses and you get to know about each other ov
 er tea and coffee and during the breaks. It’s our informal networkin
 g approach. But that means you might not know some really interesting 
 stuff about some of our members' businesses. That is why we are holdin
 g regular member spotlight sessions this year.\r\n4 members, 4 busines
 ses and 4 sets of ways you can all help them grow and develop their bu
 sinesses. From each session I'll be working with each spotlight member
  to create some social media/website collateral they can use to promot
 e their businesses. This is another of the benefits of joining the Hub
  community. If you are a member and want a spotlight slot message Alle
 n. If you want to come along and find out more about 4 great local bus
 inesses, book in - your first visit is free.\r\nCOST: Your first visit
  to the hub is FREE\r\nBOOKING: Please CLICK HERE to book your plac
 e\r\nMAP\r\nThere is ample paid car parking near the venue.\n\nFor mor
 e information visit https://networkinginsurrey.co.uk/events/guildford-
 hub-member-spotlight
DTSTART;TZID=Europe/London:20190610T093000
DTEND;TZID=Europe/London:20190610T120000
CATEGORIES:education
LOCATION:The Guildford Harbour Hotel GU1 3DA
WEBSITE:https://www.google.com/maps/place/Guildford+Harbour+Hotel/@51.
 2386643,-0.5693003,17z/data=!3m1!4b1!4m5!3m4!1s0x4875d09929b79361:0xf4
 3531b83dcbb1a2!8m2!3d51.238661!4d-0.5671116
URL:https://www.google.com/maps/place/Guildford+Harbour+Hotel/@51.2386
 643,-0.5693003,17z/data=!3m1!4b1!4m5!3m4!1s0x4875d09929b79361:0xf43531
 b83dcbb1a2!8m2!3d51.238661!4d-0.5671116
CONTACT:01483901488
ORGANIZER;CN="Allen Ruddock":https://networkinginsurrey.co.uk/profile/
 JoanneMcGowan
ATTACH;FMTTYPE="image/jpeg":https://storage.ning.com/topology/rest/1.0
 /file/get/1858513088?profile=original
ATTENDEE;ROLE=REQ-PARTICIPANT;PARTSTAT=ACCEPTED;RSVP=TRUE;CN="Allen Ru
 ddock":https://networkinginsurrey.co.uk/profile/JoanneMcGowan
END:VEVENT
END:VCALENDAR
